BEGIN:VCALENDAR
VERSION:2.0
PRODID:-//Pizzeria Valgrande Montecampione - ECPv6.15.20//NONSGML v1.0//EN
CALSCALE:GREGORIAN
METHOD:PUBLISH
X-ORIGINAL-URL:https://pizzeriavalgrande.com
X-WR-CALDESC:Eventi per Pizzeria Valgrande Montecampione
REFRESH-INTERVAL;VALUE=DURATION:PT1H
X-Robots-Tag:noindex
X-PUBLISHED-TTL:PT1H
BEGIN:VTIMEZONE
TZID:Europe/Paris
BEGIN:DAYLIGHT
TZOFFSETFROM:+0100
TZOFFSETTO:+0200
TZNAME:CEST
DTSTART:20200329T010000
END:DAYLIGHT
BEGIN:STANDARD
TZOFFSETFROM:+0200
TZOFFSETTO:+0100
TZNAME:CET
DTSTART:20201025T010000
END:STANDARD
BEGIN:DAYLIGHT
TZOFFSETFROM:+0100
TZOFFSETTO:+0200
TZNAME:CEST
DTSTART:20210328T010000
END:DAYLIGHT
BEGIN:STANDARD
TZOFFSETFROM:+0200
TZOFFSETTO:+0100
TZNAME:CET
DTSTART:20211031T010000
END:STANDARD
BEGIN:DAYLIGHT
TZOFFSETFROM:+0100
TZOFFSETTO:+0200
TZNAME:CEST
DTSTART:20220327T010000
END:DAYLIGHT
BEGIN:STANDARD
TZOFFSETFROM:+0200
TZOFFSETTO:+0100
TZNAME:CET
DTSTART:20221030T010000
END:STANDARD
END:VTIMEZONE
BEGIN:VEVENT
DTSTART;TZID=Europe/Paris:20210908T203000
DTEND;TZID=Europe/Paris:20210908T230000
DTSTAMP:20260421T121349
CREATED:20210901T101922Z
LAST-MODIFIED:20210901T101922Z
UID:1723-1631133000-1631142000@pizzeriavalgrande.com
SUMMARY:Qualificazioni Mondiali Qatar 2022: Italia – Lituania. Prenota il tuo tavolo e vieni a tifare con noi!
DESCRIPTION:
URL:https://pizzeriavalgrande.com/event/qualificazioni-mondiali-qatar-2022-italia-lituania-prenota-il-tuo-tavolo-e-vieni-a-tifare-con-noi/
LOCATION:Pizzeria Valgrande\, Via Plan di Montecampione 58\, Artogne\, 25040\, Italia
ORGANIZER;CN="Pizzeria Valgrande":MAILTO:pizzeriavalgrande@icloud.com
END:VEVENT
BEGIN:VEVENT
DTSTART;TZID=Europe/Paris:20210905T203000
DTEND;TZID=Europe/Paris:20210905T230000
DTSTAMP:20260421T121349
CREATED:20210901T101536Z
LAST-MODIFIED:20210901T101536Z
UID:1719-1630873800-1630882800@pizzeriavalgrande.com
SUMMARY:Qualificazioni Mondiali Qatar 2022: Svizzera - Italia. Prenota il tuo tavolo e vieni a tifare con noi!
DESCRIPTION:
URL:https://pizzeriavalgrande.com/event/qualificazioni-mondiali-qatar-2022-svizzera-italia-prenota-il-tuo-tavolo-e-vieni-a-tifare-con-noi/
LOCATION:Pizzeria Valgrande\, Via Plan di Montecampione 58\, Artogne\, 25040\, Italia
ORGANIZER;CN="Pizzeria Valgrande":MAILTO:pizzeriavalgrande@icloud.com
END:VEVENT
BEGIN:VEVENT
DTSTART;TZID=Europe/Paris:20210902T203000
DTEND;TZID=Europe/Paris:20210902T230000
DTSTAMP:20260421T121349
CREATED:20210901T100649Z
LAST-MODIFIED:20210901T101357Z
UID:1716-1630614600-1630623600@pizzeriavalgrande.com
SUMMARY:Qualificazioni Mondiali Qatar 2022: Italia – Bulgaria. Prenota il tuo tavolo e vieni a tifare con noi!
DESCRIPTION: 
URL:https://pizzeriavalgrande.com/event/qualificazioni-mondiali-qatar-2022-italia-bulgaria-prenota-il-tuo-tavolo-e-vieni-a-tifare-con-noi/
LOCATION:Pizzeria Valgrande\, Via Plan di Montecampione 58\, Artogne\, 25040\, Italia
ORGANIZER;CN="Pizzeria Valgrande":MAILTO:pizzeriavalgrande@icloud.com
END:VEVENT
END:VCALENDAR