BEGIN:VCALENDAR
VERSION:2.0
PRODID:-//Pizzeria Valgrande Montecampione - ECPv6.15.20//NONSGML v1.0//EN
CALSCALE:GREGORIAN
METHOD:PUBLISH
X-WR-CALNAME:Pizzeria Valgrande Montecampione
X-ORIGINAL-URL:https://pizzeriavalgrande.com
X-WR-CALDESC:Eventi per Pizzeria Valgrande Montecampione
REFRESH-INTERVAL;VALUE=DURATION:PT1H
X-Robots-Tag:noindex
X-PUBLISHED-TTL:PT1H
BEGIN:VTIMEZONE
TZID:Europe/Paris
BEGIN:DAYLIGHT
TZOFFSETFROM:+0100
TZOFFSETTO:+0200
TZNAME:CEST
DTSTART:20200329T010000
END:DAYLIGHT
BEGIN:STANDARD
TZOFFSETFROM:+0200
TZOFFSETTO:+0100
TZNAME:CET
DTSTART:20201025T010000
END:STANDARD
BEGIN:DAYLIGHT
TZOFFSETFROM:+0100
TZOFFSETTO:+0200
TZNAME:CEST
DTSTART:20210328T010000
END:DAYLIGHT
BEGIN:STANDARD
TZOFFSETFROM:+0200
TZOFFSETTO:+0100
TZNAME:CET
DTSTART:20211031T010000
END:STANDARD
BEGIN:DAYLIGHT
TZOFFSETFROM:+0100
TZOFFSETTO:+0200
TZNAME:CEST
DTSTART:20220327T010000
END:DAYLIGHT
BEGIN:STANDARD
TZOFFSETFROM:+0200
TZOFFSETTO:+0100
TZNAME:CET
DTSTART:20221030T010000
END:STANDARD
BEGIN:DAYLIGHT
TZOFFSETFROM:+0100
TZOFFSETTO:+0200
TZNAME:CEST
DTSTART:20230326T010000
END:DAYLIGHT
BEGIN:STANDARD
TZOFFSETFROM:+0200
TZOFFSETTO:+0100
TZNAME:CET
DTSTART:20231029T010000
END:STANDARD
BEGIN:DAYLIGHT
TZOFFSETFROM:+0100
TZOFFSETTO:+0200
TZNAME:CEST
DTSTART:20240331T010000
END:DAYLIGHT
BEGIN:STANDARD
TZOFFSETFROM:+0200
TZOFFSETTO:+0100
TZNAME:CET
DTSTART:20241027T010000
END:STANDARD
END:VTIMEZONE
BEGIN:VEVENT
DTSTART;TZID=Europe/Paris:20221231T200000
DTEND;TZID=Europe/Paris:20230101T030000
DTSTAMP:20260421T143243
CREATED:20221205T151057Z
LAST-MODIFIED:20221205T151057Z
UID:2060-1672516800-1672542000@pizzeriavalgrande.com
SUMMARY:Cenone di Capodanno 2023
DESCRIPTION:
URL:https://pizzeriavalgrande.com/event/cenone-di-capodanno-2023/
LOCATION:Pizzeria Valgrande\, Via Plan di Montecampione 58\, Artogne\, 25040\, Italia
ATTACH;FMTTYPE=image/jpeg:https://pizzeriavalgrande.com/wp-content/uploads/2022/12/Capodanno2022.jpg
ORGANIZER;CN="Pizzeria Valgrande":MAILTO:pizzeriavalgrande@icloud.com
END:VEVENT
BEGIN:VEVENT
DTSTART;TZID=Europe/Paris:20221015T190000
DTEND;TZID=Europe/Paris:20221015T220000
DTSTAMP:20260421T143243
CREATED:20220930T090719Z
LAST-MODIFIED:20220930T090719Z
UID:2053-1665860400-1665871200@pizzeriavalgrande.com
SUMMARY:Serata spiedo alla Pizzeria Valgrande
DESCRIPTION:Spiedo con patate e polenta\, \n¼ di vino o bibita\, dolce e  \ncaffè… \nPrenota subito allo 0364560515
URL:https://pizzeriavalgrande.com/event/serata-spiedo-alla-pizzeria-valgrande-3/
LOCATION:Pizzeria Valgrande\, Via Plan di Montecampione 58\, Artogne\, 25040\, Italia
ORGANIZER;CN="Pizzeria Valgrande":MAILTO:pizzeriavalgrande@icloud.com
END:VEVENT
BEGIN:VEVENT
DTSTART;TZID=Europe/Paris:20220917T193000
DTEND;TZID=Europe/Paris:20220917T220000
DTSTAMP:20260421T143243
CREATED:20220831T094943Z
LAST-MODIFIED:20220831T094943Z
UID:2042-1663443000-1663452000@pizzeriavalgrande.com
SUMMARY:Serata spiedo alla Pizzeria Valgrande
DESCRIPTION:Spiedo con patate e polenta\, \n¼ di vino o bibita\, dolce e  \ncaffè… \nPrenota subito allo 0364560515 \n 
URL:https://pizzeriavalgrande.com/event/serata-spiedo-alla-pizzeria-valgrande-2/
LOCATION:Pizzeria Valgrande\, Via Plan di Montecampione 58\, Artogne\, 25040\, Italia
ATTACH;FMTTYPE=image/jpeg:https://pizzeriavalgrande.com/wp-content/uploads/2022/08/SpiedoSerata.jpg
ORGANIZER;CN="Pizzeria Valgrande":MAILTO:pizzeriavalgrande@icloud.com
END:VEVENT
BEGIN:VEVENT
DTSTART;TZID=Europe/Paris:20220908T123000
DTEND;TZID=Europe/Paris:20220908T160000
DTSTAMP:20260421T143243
CREATED:20220831T093956Z
LAST-MODIFIED:20220831T093956Z
UID:2034-1662640200-1662652800@pizzeriavalgrande.com
SUMMARY:Pranzo dopo l’uscita nel bosco per raccogliere i funghi con possibilità di sottoporli poi al controllo dell’ATS di Brescia!!!
DESCRIPTION:Grazie al Consorzio Montecampione\, sarà possibile: \n\n– uscire nel bosco per funghi con gli “Amici di Kira” con ritrovo alle 9.15 presso la partenza della seggiovia Corniolo\n– pranzare da noi a menù convenzionato a 15 euro presso la Pizzeria Valgrande Montecampione alle 12.40.\n– sottoporre i funghi raccolti all’Ispettore dell’Ats della Regione Lombardia dalle ore 14.00 in Valgrande!\n\n\n\nN.B. Chi volesse solo pranzare senza effettuare la gita\, chiami entro le ore 10.00 dell’8/10 lo 0364560515.
URL:https://pizzeriavalgrande.com/event/pranzo-dopo-luscita-nel-bosco-per-raccogliere-i-funghi-con-possibilita-di-sottoporli-poi-al-controllo-dellats-di-brescia-11/
LOCATION:Pizzeria Valgrande\, Via Plan di Montecampione 58\, Artogne\, 25040\, Italia
ORGANIZER;CN="Pizzeria Valgrande":MAILTO:pizzeriavalgrande@icloud.com
END:VEVENT
BEGIN:VEVENT
DTSTART;TZID=Europe/Paris:20220906T080000
DTEND;TZID=Europe/Paris:20220906T170000
DTSTAMP:20260421T143243
CREATED:20220831T094604Z
LAST-MODIFIED:20220831T094604Z
UID:2040-1662451200-1662483600@pizzeriavalgrande.com
SUMMARY:Pizza Party presso la Pizzeria Valgrande
DESCRIPTION:Pizza Gigante a scelta*\, anche due gusti\, \nbirra piccola o bibita\,\nun dolce della casa e caffè. \n  \nPrenota subito allo 0364560515
URL:https://pizzeriavalgrande.com/event/pizza-party-presso-la-pizzeria-valgrande-18/
LOCATION:Pizzeria Valgrande\, Via Plan di Montecampione 58\, Artogne\, 25040\, Italia
ORGANIZER;CN="Pizzeria Valgrande":MAILTO:pizzeriavalgrande@icloud.com
END:VEVENT
BEGIN:VEVENT
DTSTART;TZID=Europe/Paris:20220901T123000
DTEND;TZID=Europe/Paris:20220901T160000
DTSTAMP:20260421T143243
CREATED:20220831T093811Z
LAST-MODIFIED:20220831T093811Z
UID:2032-1662035400-1662048000@pizzeriavalgrande.com
SUMMARY:Pranzo dopo l’uscita nel bosco per raccogliere i funghi con possibilità di sottoporli poi al controllo dell’ATS di Brescia!!!
DESCRIPTION:Grazie al Consorzio Montecampione\, sarà possibile: \n\n– uscire nel bosco per funghi con gli “Amici di Kira” con ritrovo alle 9.15 presso la partenza della seggiovia Corniolo\n– pranzare da noi a menù convenzionato a 15 euro presso la Pizzeria Valgrande Montecampione alle 12.40.\n– sottoporre i funghi raccolti all’Ispettore dell’Ats della Regione Lombardia dalle ore 14.00 in Valgrande!\n\n\n\nN.B. Chi volesse solo pranzare senza effettuare la gita\, chiami entro le ore 10.00 dell’8/10 lo 0364560515.
URL:https://pizzeriavalgrande.com/event/pranzo-dopo-luscita-nel-bosco-per-raccogliere-i-funghi-con-possibilita-di-sottoporli-poi-al-controllo-dellats-di-brescia-10/
LOCATION:Pizzeria Valgrande\, Via Plan di Montecampione 58\, Artogne\, 25040\, Italia
ORGANIZER;CN="Pizzeria Valgrande":MAILTO:pizzeriavalgrande@icloud.com
END:VEVENT
BEGIN:VEVENT
DTSTART;TZID=Europe/Paris:20220830T190000
DTEND;TZID=Europe/Paris:20220830T220000
DTSTAMP:20260421T143243
CREATED:20220802T181608Z
LAST-MODIFIED:20220802T181608Z
UID:2001-1661886000-1661896800@pizzeriavalgrande.com
SUMMARY:Pizza Party presso la Pizzeria Valgrande
DESCRIPTION:Pizza Gigante a scelta*\, anche due gusti\, \nbirra piccola o bibita\,\nun dolce della casa e caffè. \n  \nPrenota subito allo 0364560515
URL:https://pizzeriavalgrande.com/event/pizza-party-presso-la-pizzeria-valgrande-17/
LOCATION:Pizzeria Valgrande\, Via Plan di Montecampione 58\, Artogne\, 25040\, Italia
ORGANIZER;CN="Pizzeria Valgrande":MAILTO:pizzeriavalgrande@icloud.com
END:VEVENT
BEGIN:VEVENT
DTSTART;TZID=Europe/Paris:20220825T123000
DTEND;TZID=Europe/Paris:20220825T160000
DTSTAMP:20260421T143243
CREATED:20220802T184117Z
LAST-MODIFIED:20220802T184117Z
UID:2021-1661430600-1661443200@pizzeriavalgrande.com
SUMMARY:Pranzo dopo l’uscita nel bosco per raccogliere i funghi con possibilità di sottoporli poi al controllo dell’ATS di Brescia!!!
DESCRIPTION:Grazie al Consorzio Montecampione\, sarà possibile: \n\n– uscire nel bosco per funghi con gli “Amici di Kira” con ritrovo alle 9.15 presso la partenza della seggiovia Corniolo\n– pranzare da noi a menù convenzionato a 15 euro presso la Pizzeria Valgrande Montecampione alle 12.40.\n– sottoporre i funghi raccolti all’Ispettore dell’Ats della Regione Lombardia dalle ore 14.00 in Valgrande!\n\n\n\nN.B. Chi volesse solo pranzare senza effettuare la gita\, chiami entro le ore 10.00 dell’8/10 lo 0364560515.
URL:https://pizzeriavalgrande.com/event/pranzo-dopo-luscita-nel-bosco-per-raccogliere-i-funghi-con-possibilita-di-sottoporli-poi-al-controllo-dellats-di-brescia-8/
LOCATION:Pizzeria Valgrande\, Via Plan di Montecampione 58\, Artogne\, 25040\, Italia
ORGANIZER;CN="Pizzeria Valgrande":MAILTO:pizzeriavalgrande@icloud.com
END:VEVENT
BEGIN:VEVENT
DTSTART;TZID=Europe/Paris:20220823T190000
DTEND;TZID=Europe/Paris:20220823T220000
DTSTAMP:20260421T143243
CREATED:20220802T181425Z
LAST-MODIFIED:20220802T181425Z
UID:1999-1661281200-1661292000@pizzeriavalgrande.com
SUMMARY:Pizza Party presso la Pizzeria Valgrande
DESCRIPTION:Pizza Gigante a scelta*\, anche due gusti\, \nbirra piccola o bibita\,\nun dolce della casa e caffè. \n  \nPrenota subito allo 0364560515
URL:https://pizzeriavalgrande.com/event/pizza-party-presso-la-pizzeria-valgrande-16/
LOCATION:Pizzeria Valgrande\, Via Plan di Montecampione 58\, Artogne\, 25040\, Italia
ORGANIZER;CN="Pizzeria Valgrande":MAILTO:pizzeriavalgrande@icloud.com
END:VEVENT
BEGIN:VEVENT
DTSTART;TZID=Europe/Paris:20220818T123000
DTEND;TZID=Europe/Paris:20220818T160000
DTSTAMP:20260421T143243
CREATED:20220802T184626Z
LAST-MODIFIED:20220802T184626Z
UID:2023-1660825800-1660838400@pizzeriavalgrande.com
SUMMARY:Pranzo dopo l’uscita nel bosco per raccogliere i funghi con possibilità di sottoporli poi al controllo dell’ATS di Brescia!!!
DESCRIPTION:Grazie al Consorzio Montecampione\, sarà possibile: \n\n– uscire nel bosco per funghi con gli “Amici di Kira” con ritrovo alle 9.15 presso la partenza della seggiovia Corniolo\n– pranzare da noi a menù convenzionato a 15 euro presso la Pizzeria Valgrande Montecampione alle 12.40.\n– sottoporre i funghi raccolti all’Ispettore dell’Ats della Regione Lombardia dalle ore 14.00 in Valgrande!\n\n\n\nN.B. Chi volesse solo pranzare senza effettuare la gita\, chiami entro le ore 10.00 dell’8/10 lo 0364560515.
URL:https://pizzeriavalgrande.com/event/pranzo-dopo-luscita-nel-bosco-per-raccogliere-i-funghi-con-possibilita-di-sottoporli-poi-al-controllo-dellats-di-brescia-9/
LOCATION:Pizzeria Valgrande\, Via Plan di Montecampione 58\, Artogne\, 25040\, Italia
ORGANIZER;CN="Pizzeria Valgrande":MAILTO:pizzeriavalgrande@icloud.com
END:VEVENT
BEGIN:VEVENT
DTSTART;TZID=Europe/Paris:20220816T190000
DTEND;TZID=Europe/Paris:20220816T220000
DTSTAMP:20260421T143243
CREATED:20220802T181249Z
LAST-MODIFIED:20220802T181249Z
UID:1996-1660676400-1660687200@pizzeriavalgrande.com
SUMMARY:Pizza Party presso la Pizzeria Valgrande
DESCRIPTION:Pizza Gigante a scelta*\, anche due gusti\, \nbirra piccola o bibita\,\nun dolce della casa e caffè. \n  \nPrenota subito allo 0364560515
URL:https://pizzeriavalgrande.com/event/pizza-party-presso-la-pizzeria-valgrande-15/
LOCATION:Pizzeria Valgrande\, Via Plan di Montecampione 58\, Artogne\, 25040\, Italia
ORGANIZER;CN="Pizzeria Valgrande":MAILTO:pizzeriavalgrande@icloud.com
END:VEVENT
BEGIN:VEVENT
DTSTART;TZID=Europe/Paris:20220811T123000
DTEND;TZID=Europe/Paris:20220811T160000
DTSTAMP:20260421T143243
CREATED:20220802T183801Z
LAST-MODIFIED:20220802T183801Z
UID:2017-1660221000-1660233600@pizzeriavalgrande.com
SUMMARY:Pranzo dopo l’uscita nel bosco per raccogliere i funghi con possibilità di sottoporli poi al controllo dell’ATS di Brescia!!!
DESCRIPTION:Grazie al Consorzio Montecampione\, sarà possibile: \n\n– uscire nel bosco per funghi con gli “Amici di Kira” con ritrovo alle 9.15 presso la partenza della seggiovia Corniolo\n– pranzare da noi a menù convenzionato a 15 euro presso la Pizzeria Valgrande Montecampione alle 12.40.\n– sottoporre i funghi raccolti all’Ispettore dell’Ats della Regione Lombardia dalle ore 14.00 in Valgrande!\n\n\n\nN.B. Chi volesse solo pranzare senza effettuare la gita\, chiami entro le ore 10.00 dell’8/10 lo 0364560515.
URL:https://pizzeriavalgrande.com/event/pranzo-dopo-luscita-nel-bosco-per-raccogliere-i-funghi-con-possibilita-di-sottoporli-poi-al-controllo-dellats-di-brescia-6/
LOCATION:Pizzeria Valgrande\, Via Plan di Montecampione 58\, Artogne\, 25040\, Italia
ORGANIZER;CN="Pizzeria Valgrande":MAILTO:pizzeriavalgrande@icloud.com
END:VEVENT
BEGIN:VEVENT
DTSTART;TZID=Europe/Paris:20220809T190000
DTEND;TZID=Europe/Paris:20220809T220000
DTSTAMP:20260421T143243
CREATED:20220802T181037Z
LAST-MODIFIED:20220802T181037Z
UID:1994-1660071600-1660082400@pizzeriavalgrande.com
SUMMARY:Pizza Party presso la Pizzeria Valgrande
DESCRIPTION:Pizza Gigante a scelta*\, anche due gusti\, \nbirra piccola o bibita\,\nun dolce della casa e caffè. \nPrenota subito allo 0364560515
URL:https://pizzeriavalgrande.com/event/pizza-party-presso-la-pizzeria-valgrande-14/
LOCATION:Pizzeria Valgrande\, Via Plan di Montecampione 58\, Artogne\, 25040\, Italia
ORGANIZER;CN="Pizzeria Valgrande":MAILTO:pizzeriavalgrande@icloud.com
END:VEVENT
BEGIN:VEVENT
DTSTART;TZID=Europe/Paris:20220808T123000
DTEND;TZID=Europe/Paris:20220808T160000
DTSTAMP:20260421T143243
CREATED:20220803T062955Z
LAST-MODIFIED:20220803T062955Z
UID:2028-1659961800-1659974400@pizzeriavalgrande.com
SUMMARY:Pranzo dopo l'Escursione Botanica nei Boschi di Montecampione con l’esperto Marco Biolo
DESCRIPTION:Ore 12.30: pranzo a prezzo convenzionato (euro 15.00) con prenotazione obbligatoria entro le ore 9.30 del medesimo giorno allo 0364560515. \nOre 14.00: controllo delle erbe raccolte a cura dell’Ispettore Botanico Marco Biolo dell’ATS di Brescia
URL:https://pizzeriavalgrande.com/event/pranzo-dopo-lescursione-botanica-nei-boschi-di-montecampione-con-lesperto-marco-biolo/
LOCATION:Pizzeria Valgrande\, Via Plan di Montecampione 58\, Artogne\, 25040\, Italia
ORGANIZER;CN="Pizzeria Valgrande":MAILTO:pizzeriavalgrande@icloud.com
END:VEVENT
BEGIN:VEVENT
DTSTART;TZID=Europe/Paris:20220804T123000
DTEND;TZID=Europe/Paris:20220804T160000
DTSTAMP:20260421T143243
CREATED:20220802T182202Z
LAST-MODIFIED:20220802T183709Z
UID:2005-1659616200-1659628800@pizzeriavalgrande.com
SUMMARY:Pranzo dopo l’uscita nel bosco per raccogliere i funghi con possibilità di sottoporli poi al controllo dell’ATS di Brescia!!!
DESCRIPTION:Grazie al Consorzio Montecampione\, sarà possibile: \n\n– uscire nel bosco per funghi con gli “Amici di Kira” con ritrovo alle 9.15 presso la partenza della seggiovia Corniolo\n– pranzare da noi a menù convenzionato a 15 euro presso la Pizzeria Valgrande Montecampione alle 12.40.\n– sottoporre i funghi raccolti all’Ispettore dell’Ats della Regione Lombardia dalle ore 14.00 in Valgrande!\n\n\n\nN.B. Chi volesse solo pranzare senza effettuare la gita\, chiami entro le ore 10.00 dell’8/10 lo 0364560515.
URL:https://pizzeriavalgrande.com/event/pranzo-dopo-luscita-nel-bosco-per-raccogliere-i-funghi-con-possibilita-di-sottoporli-poi-al-controllo-dellats-di-brescia-5/
LOCATION:Pizzeria Valgrande\, Via Plan di Montecampione 58\, Artogne\, 25040\, Italia
ORGANIZER;CN="Pizzeria Valgrande":MAILTO:pizzeriavalgrande@icloud.com
END:VEVENT
BEGIN:VEVENT
DTSTART;TZID=Europe/Paris:20220802T190000
DTEND;TZID=Europe/Paris:20220802T220000
DTSTAMP:20260421T143243
CREATED:20220802T180810Z
LAST-MODIFIED:20220802T181124Z
UID:1992-1659466800-1659477600@pizzeriavalgrande.com
SUMMARY:Pizza Party presso la Pizzeria Valgrande
DESCRIPTION:Pizza Gigante a scelta*\, anche due gusti\, \nbirra piccola o bibita\,\nun dolce della casa e caffè. \n  \nPrenota subito allo 0364560515
URL:https://pizzeriavalgrande.com/event/pizza-party-presso-la-pizzeria-valgrande-13/
LOCATION:Pizzeria Valgrande\, Via Plan di Montecampione 58\, Artogne\, 25040\, Italia
ORGANIZER;CN="Pizzeria Valgrande":MAILTO:pizzeriavalgrande@icloud.com
END:VEVENT
BEGIN:VEVENT
DTSTART;TZID=Europe/Paris:20220802T123000
DTEND;TZID=Europe/Paris:20220802T160000
DTSTAMP:20260421T143243
CREATED:20220802T183925Z
LAST-MODIFIED:20220802T183925Z
UID:2019-1659443400-1659456000@pizzeriavalgrande.com
SUMMARY:Pranzo dopo l’uscita nel bosco per raccogliere i funghi con possibilità di sottoporli poi al controllo dell’ATS di Brescia!!!
DESCRIPTION:Grazie al Consorzio Montecampione\, sarà possibile: \n\n– uscire nel bosco per funghi con gli “Amici di Kira” con ritrovo alle 9.15 presso la partenza della seggiovia Corniolo\n– pranzare da noi a menù convenzionato a 15 euro presso la Pizzeria Valgrande Montecampione alle 12.40.\n– sottoporre i funghi raccolti all’Ispettore dell’Ats della Regione Lombardia dalle ore 14.00 in Valgrande!\n\n\n\nN.B. Chi volesse solo pranzare senza effettuare la gita\, chiami entro le ore 10.00 dell’8/10 lo 0364560515.
URL:https://pizzeriavalgrande.com/event/pranzo-dopo-luscita-nel-bosco-per-raccogliere-i-funghi-con-possibilita-di-sottoporli-poi-al-controllo-dellats-di-brescia-7/
LOCATION:Pizzeria Valgrande\, Via Plan di Montecampione 58\, Artogne\, 25040\, Italia
ORGANIZER;CN="Pizzeria Valgrande":MAILTO:pizzeriavalgrande@icloud.com
END:VEVENT
BEGIN:VEVENT
DTSTART;TZID=Europe/Paris:20220728T123000
DTEND;TZID=Europe/Paris:20220728T160000
DTSTAMP:20260421T143243
CREATED:20220802T182019Z
LAST-MODIFIED:20220802T182019Z
UID:2003-1659011400-1659024000@pizzeriavalgrande.com
SUMMARY:Pranzo dopo l’uscita nel bosco per raccogliere i funghi con possibilità di sottoporli poi al controllo dell’ATS di Brescia!!!
DESCRIPTION:Grazie al Consorzio Montecampione\, sarà possibile: \n\n– uscire nel bosco per funghi con gli “Amici di Kira” con ritrovo alle 9.15 presso la partenza della seggiovia Corniolo\n– pranzare da noi a menù convenzionato a 15 euro presso la Pizzeria Valgrande Montecampione alle 12.40.\n– sottoporre i funghi raccolti all’Ispettore dell’Ats della Regione Lombardia dalle ore 14.00 in Valgrande!\n\n\n\nN.B. Chi volesse solo pranzare senza effettuare la gita\, chiami entro le ore 10.00 dell’8/10 lo 0364560515.
URL:https://pizzeriavalgrande.com/event/pranzo-dopo-luscita-nel-bosco-per-raccogliere-i-funghi-con-possibilita-di-sottoporli-poi-al-controllo-dellats-di-brescia-4/
LOCATION:Pizzeria Valgrande\, Via Plan di Montecampione 58\, Artogne\, 25040\, Italia
ORGANIZER;CN="Pizzeria Valgrande":MAILTO:pizzeriavalgrande@icloud.com
END:VEVENT
BEGIN:VEVENT
DTSTART;TZID=Europe/Paris:20220726T190000
DTEND;TZID=Europe/Paris:20220726T220000
DTSTAMP:20260421T143243
CREATED:20220715T074643Z
LAST-MODIFIED:20220715T074643Z
UID:1978-1658862000-1658872800@pizzeriavalgrande.com
SUMMARY:Pizza Party presso la Pizzeria Valgrande
DESCRIPTION:Pizza Gigante a scelta*\, anche due gusti\, \nbirra piccola o bibita\,\nun dolce della casa e caffè. \n  \nPrenota subito allo 0364560515
URL:https://pizzeriavalgrande.com/event/pizza-party-presso-la-pizzeria-valgrande-12/
LOCATION:Pizzeria Valgrande\, Via Plan di Montecampione 58\, Artogne\, 25040\, Italia
ORGANIZER;CN="Pizzeria Valgrande":MAILTO:pizzeriavalgrande@icloud.com
END:VEVENT
BEGIN:VEVENT
DTSTART;TZID=Europe/Paris:20220721T123000
DTEND;TZID=Europe/Paris:20220721T160000
DTSTAMP:20260421T143243
CREATED:20220715T075052Z
LAST-MODIFIED:20220715T075254Z
UID:1982-1658406600-1658419200@pizzeriavalgrande.com
SUMMARY:Pranzo dopo l’uscita nel bosco per raccogliere i funghi con possibilità di sottoporli poi al controllo dell’ATS di Brescia!!!
DESCRIPTION:Grazie al Consorzio Montecampione\, sarà possibile: \n\n– uscire nel bosco per funghi con gli “Amici di Kira” con ritrovo alle 9.15 presso la partenza della seggiovia Corniolo\n– pranzare da noi a menù convenzionato a 15 euro presso la Pizzeria Valgrande Montecampione alle 12.40.\n– sottoporre i funghi raccolti all’Ispettore dell’Ats della Regione Lombardia dalle ore 14.00 in Valgrande!\n\n\n\nN.B. Chi volesse solo pranzare senza effettuare la gita\, chiami entro le ore 10.00 dell’8/10 lo 0364560515.
URL:https://pizzeriavalgrande.com/event/pranzo-dopo-luscita-nel-bosco-per-raccogliere-i-funghi-con-possibilita-di-sottoporli-poi-al-controllo-dellats-di-brescia-3/
LOCATION:Pizzeria Valgrande\, Via Plan di Montecampione 58\, Artogne\, 25040\, Italia
ATTACH;FMTTYPE=image/png:https://pizzeriavalgrande.com/wp-content/uploads/2021/10/Screenshot-2021-10-05-at-17-10-59-Uscita-nel-bosco-con-gli-amici-dei-funghi-di-Kira-per-la-raccolta-con-possibilita-di-so....png
ORGANIZER;CN="Pizzeria Valgrande":MAILTO:pizzeriavalgrande@icloud.com
END:VEVENT
BEGIN:VEVENT
DTSTART;TZID=Europe/Paris:20220719T190000
DTEND;TZID=Europe/Paris:20220719T220000
DTSTAMP:20260421T143243
CREATED:20220715T074241Z
LAST-MODIFIED:20220715T074458Z
UID:1975-1658257200-1658268000@pizzeriavalgrande.com
SUMMARY:Pizza Party presso la Pizzeria Valgrande
DESCRIPTION:Pizza Gigante a scelta*\, anche due gusti\, \nbirra piccola o bibita\,\nun dolce della casa e caffè. \n  \nPrenota subito allo 0364560515 \n 
URL:https://pizzeriavalgrande.com/event/pizza-party-presso-la-pizzeria-valgrande-11/
LOCATION:Pizzeria Valgrande\, Via Plan di Montecampione 58\, Artogne\, 25040\, Italia
ORGANIZER;CN="Pizzeria Valgrande":MAILTO:pizzeriavalgrande@icloud.com
END:VEVENT
BEGIN:VEVENT
DTSTART;TZID=Europe/Paris:20220714T123000
DTEND;TZID=Europe/Paris:20220714T160000
DTSTAMP:20260421T143243
CREATED:20220714T084119Z
LAST-MODIFIED:20220714T084119Z
UID:1973-1657801800-1657814400@pizzeriavalgrande.com
SUMMARY:Pranzo dopo l’uscita nel bosco per raccogliere i funghi con possibilità di sottoporli poi al controllo dell’ATS di Brescia!!!
DESCRIPTION:Grazie al Consorzio Montecampione\, sarà possibile: \n\n– uscire nel bosco per funghi con gli “Amici di Kira” con ritrovo alle 9.15 presso la partenza della seggiovia Corniolo\n– pranzare da noi a menù convenzionato a 15 euro presso la Pizzeria Valgrande Montecampione alle 12.40.\n– sottoporre i funghi raccolti all’Ispettore dell’Ats della Regione Lombardia dalle ore 14.00 in Valgrande!\n\n\n\nN.B. Chi volesse solo pranzare senza effettuare la gita\, chiami entro le ore 10.00 dell’8/10 lo 0364560515.
URL:https://pizzeriavalgrande.com/event/pranzo-dopo-luscita-nel-bosco-per-raccogliere-i-funghi-con-possibilita-di-sottoporli-poi-al-controllo-dellats-di-brescia-2/
LOCATION:Pizzeria Valgrande\, Via Plan di Montecampione 58\, Artogne\, 25040\, Italia
ORGANIZER;CN="Pizzeria Valgrande":MAILTO:pizzeriavalgrande@icloud.com
END:VEVENT
BEGIN:VEVENT
DTSTART;TZID=Europe/Paris:20211231T200000
DTEND;TZID=Europe/Paris:20220101T030000
DTSTAMP:20260421T143243
CREATED:20211209T165651Z
LAST-MODIFIED:20211209T170739Z
UID:1910-1640980800-1641006000@pizzeriavalgrande.com
SUMMARY:Cenone di Capodanno 2022
DESCRIPTION:
URL:https://pizzeriavalgrande.com/event/cenone-di-capodanno-2021/
LOCATION:Pizzeria Valgrande\, Via Plan di Montecampione 58\, Artogne\, 25040\, Italia
ATTACH;FMTTYPE=image/jpeg:https://pizzeriavalgrande.com/wp-content/uploads/2021/12/Capodanno2021Zero.jpg
ORGANIZER;CN="Pizzeria Valgrande":MAILTO:pizzeriavalgrande@icloud.com
END:VEVENT
BEGIN:VEVENT
DTSTART;TZID=Europe/Paris:20211225T120000
DTEND;TZID=Europe/Paris:20211225T153000
DTSTAMP:20260421T143243
CREATED:20211213T145645Z
LAST-MODIFIED:20211213T145813Z
UID:1917-1640433600-1640446200@pizzeriavalgrande.com
SUMMARY:Pranzo di Natale 2021
DESCRIPTION:
URL:https://pizzeriavalgrande.com/event/pranzo-di-natale-2021/
LOCATION:Pizzeria Valgrande\, Via Plan di Montecampione 58\, Artogne\, 25040\, Italia
ATTACH;FMTTYPE=image/jpeg:https://pizzeriavalgrande.com/wp-content/uploads/2021/12/Natale2021.jpg
ORGANIZER;CN="Pizzeria Valgrande":MAILTO:pizzeriavalgrande@icloud.com
END:VEVENT
BEGIN:VEVENT
DTSTART;TZID=Europe/Paris:20211113T123000
DTEND;TZID=Europe/Paris:20211114T153000
DTSTAMP:20260421T143243
CREATED:20211026T183714Z
LAST-MODIFIED:20211026T184150Z
UID:1874-1636806600-1636903800@pizzeriavalgrande.com
SUMMARY:Spiedo "weekend" alla Pizzeria Valgrande
DESCRIPTION:
URL:https://pizzeriavalgrande.com/event/spiedo-alla-pizzeria-valgrande/
LOCATION:Pizzeria Valgrande\, Via Plan di Montecampione 58\, Artogne\, 25040\, Italia
ATTACH;FMTTYPE=image/jpeg:https://pizzeriavalgrande.com/wp-content/uploads/2021/10/SpiedoCastagnata.jpg
ORGANIZER;CN="Pizzeria Valgrande":MAILTO:pizzeriavalgrande@icloud.com
END:VEVENT
BEGIN:VEVENT
DTSTART;TZID=Europe/Paris:20211008T123000
DTEND;TZID=Europe/Paris:20211008T170000
DTSTAMP:20260421T143243
CREATED:20211005T151421Z
LAST-MODIFIED:20211005T151421Z
UID:1844-1633696200-1633712400@pizzeriavalgrande.com
SUMMARY:Pranzo dopo l’uscita nel bosco per raccogliere i funghi con possibilità di sottoporli poi al controllo dell’ATS di Brescia!!!
DESCRIPTION:  \n\n\nGrazie al Consorzio Montecampione\, sarà possibile: \n\n– uscire nel bosco per funghi con gli “Amici di Kira” con ritrovo alle 9.15 presso la partenza della seggiovia Corniolo\n– pranzare da noi a menù convenzionato a 15 euro presso la Pizzeria Valgrande Montecampione alle 12.40.\n– sottoporre i funghi raccolti all’Ispettore dell’Ats della Regione Lombardia dalle ore 14.00 in Valgrande!\n\n\n\nN.B. Chi volesse solo pranzare senza effettuare la gita\, chiami entro le ore 10.00 dell’8/10 lo 0364560515.
URL:https://pizzeriavalgrande.com/event/pranzo-dopo-luscita-nel-bosco-per-raccogliere-i-funghi-con-possibilita-di-sottoporli-poi-al-controllo-dellats-di-brescia/
LOCATION:Pizzeria Valgrande\, Via Plan di Montecampione 58\, Artogne\, 25040\, Italia
ATTACH;FMTTYPE=image/png:https://pizzeriavalgrande.com/wp-content/uploads/2021/10/Screenshot-2021-10-05-at-17-10-59-Uscita-nel-bosco-con-gli-amici-dei-funghi-di-Kira-per-la-raccolta-con-possibilita-di-so....png
ORGANIZER;CN="Pizzeria Valgrande":MAILTO:pizzeriavalgrande@icloud.com
END:VEVENT
BEGIN:VEVENT
DTSTART;TZID=Europe/Paris:20210925T080000
DTEND;TZID=Europe/Paris:20210925T170000
DTSTAMP:20260421T143243
CREATED:20210915T144656Z
LAST-MODIFIED:20210915T144656Z
UID:1782-1632556800-1632589200@pizzeriavalgrande.com
SUMMARY:Pranzo dopo l’uscita nel bosco per raccogliere i funghi con possibilità di sottoporli poi al controllo dell’ATS Montagna!!
DESCRIPTION:
URL:https://pizzeriavalgrande.com/event/pranzo-dopo-luscita-nel-bosco-per-raccogliere-i-funghi-con-possibilita-di-sottoporli-poi-al-controllo-dellats-montagna-18/
LOCATION:Pizzeria Valgrande\, Via Plan di Montecampione 58\, Artogne\, 25040\, Italia
ORGANIZER;CN="Pizzeria Valgrande":MAILTO:pizzeriavalgrande@icloud.com
END:VEVENT
BEGIN:VEVENT
DTSTART;TZID=Europe/Paris:20210918T193000
DTEND;TZID=Europe/Paris:20210918T220000
DTSTAMP:20260421T143243
CREATED:20210909T100557Z
LAST-MODIFIED:20210909T100557Z
UID:1772-1631993400-1632002400@pizzeriavalgrande.com
SUMMARY:Serata spiedo alla Pizzeria Valgrande
DESCRIPTION:
URL:https://pizzeriavalgrande.com/event/serata-spiedo-alla-pizzeria-valgrande/
LOCATION:Pizzeria Valgrande\, Via Plan di Montecampione 58\, Artogne\, 25040\, Italia
ATTACH;FMTTYPE=image/jpeg:https://pizzeriavalgrande.com/wp-content/uploads/2021/09/Spiedo-scaled.jpg
ORGANIZER;CN="Pizzeria Valgrande":MAILTO:pizzeriavalgrande@icloud.com
END:VEVENT
BEGIN:VEVENT
DTSTART;TZID=Europe/Paris:20210916T193000
DTEND;TZID=Europe/Paris:20210916T220000
DTSTAMP:20260421T143243
CREATED:20210909T100832Z
LAST-MODIFIED:20210909T100832Z
UID:1777-1631820600-1631829600@pizzeriavalgrande.com
SUMMARY:Serata Barbecue su prenotazione
DESCRIPTION:
URL:https://pizzeriavalgrande.com/event/serata-barbecue-su-prenotazione-40/
LOCATION:Pizzeria Valgrande\, Via Plan di Montecampione 58\, Artogne\, 25040\, Italia
ATTACH;FMTTYPE=image/jpeg:https://pizzeriavalgrande.com/wp-content/uploads/2019/06/Barbecue.jpg
ORGANIZER;CN="Pizzeria Valgrande":MAILTO:pizzeriavalgrande@icloud.com
END:VEVENT
BEGIN:VEVENT
DTSTART;TZID=Europe/Paris:20210916T080000
DTEND;TZID=Europe/Paris:20210916T170000
DTSTAMP:20260421T143243
CREATED:20210909T100715Z
LAST-MODIFIED:20210915T144519Z
UID:1775-1631779200-1631811600@pizzeriavalgrande.com
SUMMARY:ATTENZIONE: Rinviato al 25 settembre 2021. Pranzo dopo l’uscita nel bosco per raccogliere i funghi con possibilità di sottoporli poi al controllo dell’ATS Montagna!!
DESCRIPTION:
URL:https://pizzeriavalgrande.com/event/pranzo-dopo-luscita-nel-bosco-per-raccogliere-i-funghi-con-possibilita-di-sottoporli-poi-al-controllo-dellats-montagna-17/
LOCATION:Pizzeria Valgrande\, Via Plan di Montecampione 58\, Artogne\, 25040\, Italia
ORGANIZER;CN="Pizzeria Valgrande":MAILTO:pizzeriavalgrande@icloud.com
END:VEVENT
END:VCALENDAR