BEGIN:VCALENDAR
VERSION:2.0
PRODID:-//Pizzeria Valgrande Montecampione - ECPv6.15.20//NONSGML v1.0//EN
CALSCALE:GREGORIAN
METHOD:PUBLISH
X-ORIGINAL-URL:https://pizzeriavalgrande.com
X-WR-CALDESC:Eventi per Pizzeria Valgrande Montecampione
REFRESH-INTERVAL;VALUE=DURATION:PT1H
X-Robots-Tag:noindex
X-PUBLISHED-TTL:PT1H
BEGIN:VTIMEZONE
TZID:Europe/Paris
BEGIN:DAYLIGHT
TZOFFSETFROM:+0100
TZOFFSETTO:+0200
TZNAME:CEST
DTSTART:20180325T010000
END:DAYLIGHT
BEGIN:STANDARD
TZOFFSETFROM:+0200
TZOFFSETTO:+0100
TZNAME:CET
DTSTART:20181028T010000
END:STANDARD
BEGIN:DAYLIGHT
TZOFFSETFROM:+0100
TZOFFSETTO:+0200
TZNAME:CEST
DTSTART:20190331T010000
END:DAYLIGHT
BEGIN:STANDARD
TZOFFSETFROM:+0200
TZOFFSETTO:+0100
TZNAME:CET
DTSTART:20191027T010000
END:STANDARD
BEGIN:DAYLIGHT
TZOFFSETFROM:+0100
TZOFFSETTO:+0200
TZNAME:CEST
DTSTART:20200329T010000
END:DAYLIGHT
BEGIN:STANDARD
TZOFFSETFROM:+0200
TZOFFSETTO:+0100
TZNAME:CET
DTSTART:20201025T010000
END:STANDARD
BEGIN:DAYLIGHT
TZOFFSETFROM:+0100
TZOFFSETTO:+0200
TZNAME:CEST
DTSTART:20210328T010000
END:DAYLIGHT
BEGIN:STANDARD
TZOFFSETFROM:+0200
TZOFFSETTO:+0100
TZNAME:CET
DTSTART:20211031T010000
END:STANDARD
BEGIN:DAYLIGHT
TZOFFSETFROM:+0100
TZOFFSETTO:+0200
TZNAME:CEST
DTSTART:20220327T010000
END:DAYLIGHT
BEGIN:STANDARD
TZOFFSETFROM:+0200
TZOFFSETTO:+0100
TZNAME:CET
DTSTART:20221030T010000
END:STANDARD
END:VTIMEZONE
BEGIN:VEVENT
DTSTART;TZID=Europe/Paris:20210919T140000
DTEND;TZID=Europe/Paris:20210919T150000
DTSTAMP:20260420T214326
CREATED:20210915T152436Z
LAST-MODIFIED:20210915T152436Z
UID:1802-1632060000-1632063600@pizzeriavalgrande.com
SUMMARY:MotoGp Emilia Romagna: Prenota subito il tuo posto!
DESCRIPTION:Chiama subito 0364560515!!!
URL:https://pizzeriavalgrande.com/event/motogp-emilia-romagna-prenota-subito-il-tuo-posto/
LOCATION:Pizzeria Valgrande\, Via Plan di Montecampione 58\, Artogne\, 25040\, Italia
ORGANIZER;CN="Pizzeria Valgrande":MAILTO:pizzeriavalgrande@icloud.com
END:VEVENT
BEGIN:VEVENT
DTSTART;TZID=Europe/Paris:20210912T140000
DTEND;TZID=Europe/Paris:20210912T150000
DTSTAMP:20260420T214326
CREATED:20210906T090142Z
LAST-MODIFIED:20210906T153253Z
UID:1766-1631455200-1631458800@pizzeriavalgrande.com
SUMMARY:MotoGp Aragon su Sky: Prenota subito il tuo posto!
DESCRIPTION:Chiama subito 0364560515!!!
URL:https://pizzeriavalgrande.com/event/motogp-aragon-su-sky-prenota-subito-il-tuo-posto/
LOCATION:Pizzeria Valgrande\, Via Plan di Montecampione 58\, Artogne\, 25040\, Italia
ORGANIZER;CN="Pizzeria Valgrande":MAILTO:pizzeriavalgrande@icloud.com
END:VEVENT
BEGIN:VEVENT
DTSTART;TZID=Europe/Paris:20210829T140000
DTEND;TZID=Europe/Paris:20210829T150000
DTSTAMP:20260420T214326
CREATED:20210825T095257Z
LAST-MODIFIED:20210825T095326Z
UID:1695-1630245600-1630249200@pizzeriavalgrande.com
SUMMARY:MotoGp Gran Bretagna su Sky: Prenota subito il tuo posto!
DESCRIPTION:Chiama subito 0364560515!!!
URL:https://pizzeriavalgrande.com/event/motogp-gran-bretagna-su-sky-prenota-subito-il-tuo-posto/
LOCATION:Pizzeria Valgrande\, Via Plan di Montecampione 58\, Artogne\, 25040\, Italia
ORGANIZER;CN="Pizzeria Valgrande":MAILTO:pizzeriavalgrande@icloud.com
END:VEVENT
BEGIN:VEVENT
DTSTART;TZID=Europe/Paris:20200823T140000
DTEND;TZID=Europe/Paris:20200823T150000
DTSTAMP:20260420T214326
CREATED:20200817T065920Z
LAST-MODIFIED:20200817T065920Z
UID:1388-1598191200-1598194800@pizzeriavalgrande.com
SUMMARY:MotoGp Stiria su Sky: Prenota subito il tuo posto!
DESCRIPTION:
URL:https://pizzeriavalgrande.com/event/motogp-stiria-su-sky-prenota-subito-il-tuo-posto/
LOCATION:Pizzeria Valgrande\, Via Plan di Montecampione 58\, Artogne\, 25040\, Italia
ORGANIZER;CN="Pizzeria Valgrande":MAILTO:pizzeriavalgrande@icloud.com
END:VEVENT
BEGIN:VEVENT
DTSTART;TZID=Europe/Paris:20200816T140000
DTEND;TZID=Europe/Paris:20200816T150000
DTSTAMP:20260420T214326
CREATED:20200812T065138Z
LAST-MODIFIED:20200812T065138Z
UID:1380-1597586400-1597590000@pizzeriavalgrande.com
SUMMARY:MotoGp Austria su Sky: Prenota subito il tuo posto!
DESCRIPTION:
URL:https://pizzeriavalgrande.com/event/motogp-austria-su-sky-prenota-subito-il-tuo-posto/
LOCATION:Pizzeria Valgrande\, Via Plan di Montecampione 58\, Artogne\, 25040\, Italia
ORGANIZER;CN="Pizzeria Valgrande":MAILTO:pizzeriavalgrande@icloud.com
END:VEVENT
BEGIN:VEVENT
DTSTART;TZID=Europe/Paris:20200809T140000
DTEND;TZID=Europe/Paris:20200809T150000
DTSTAMP:20260420T214326
CREATED:20200805T205659Z
LAST-MODIFIED:20200812T063548Z
UID:1358-1596981600-1596985200@pizzeriavalgrande.com
SUMMARY:MotoGp Repubblica Ceka su Sky: Prenota subito il tuo posto!
DESCRIPTION:
URL:https://pizzeriavalgrande.com/event/motogp-reoubblica-ceka-su-sky-prenota-subito-il-tuo-posto/
LOCATION:Pizzeria Valgrande\, Via Plan di Montecampione 58\, Artogne\, 25040\, Italia
ORGANIZER;CN="Pizzeria Valgrande":MAILTO:pizzeriavalgrande@icloud.com
END:VEVENT
BEGIN:VEVENT
DTSTART;TZID=Europe/Paris:20200726T140000
DTEND;TZID=Europe/Paris:20200726T150000
DTSTAMP:20260420T214326
CREATED:20200725T072755Z
LAST-MODIFIED:20200725T072755Z
UID:1282-1595772000-1595775600@pizzeriavalgrande.com
SUMMARY:MotoGp Spagna su Sky: Prenota subito il tuo tavolo!
DESCRIPTION:
URL:https://pizzeriavalgrande.com/event/motogp-spagna-su-sky-prenota-subito-il-tuo-tavolo-3/
LOCATION:Pizzeria Valgrande\, Via Plan di Montecampione 58\, Artogne\, 25040\, Italia
ORGANIZER;CN="Pizzeria Valgrande":MAILTO:pizzeriavalgrande@icloud.com
END:VEVENT
BEGIN:VEVENT
DTSTART;TZID=Europe/Paris:20200719T140000
DTEND;TZID=Europe/Paris:20200719T150000
DTSTAMP:20260420T214326
CREATED:20200713T090527Z
LAST-MODIFIED:20200713T090527Z
UID:1224-1595167200-1595170800@pizzeriavalgrande.com
SUMMARY:MotoGp Spagna su Sky: Prenota subito il tuo tavolo!
DESCRIPTION:
URL:https://pizzeriavalgrande.com/event/motogp-spagna-su-sky-prenota-subito-il-tuo-tavolo-2/
LOCATION:Pizzeria Valgrande\, Via Plan di Montecampione 58\, Artogne\, 25040\, Italia
ORGANIZER;CN="Pizzeria Valgrande":MAILTO:pizzeriavalgrande@icloud.com
END:VEVENT
BEGIN:VEVENT
DTSTART;TZID=Europe/Paris:20190707T135500
DTEND;TZID=Europe/Paris:20190707T150000
DTSTAMP:20260420T214326
CREATED:20190705T165741Z
LAST-MODIFIED:20190705T165741Z
UID:737-1562507700-1562511600@pizzeriavalgrande.com
SUMMARY:MotoGp Germania su Sky: Prenota subito il tuo tavolo!
DESCRIPTION:Chiama subito 0364560515!!!
URL:https://pizzeriavalgrande.com/event/motogp-germania-su-sky-prenota-subito-il-tuo-tavolo/
LOCATION:Pizzeria Valgrande\, Via Plan di Montecampione 58\, Artogne\, 25040\, Italia
ORGANIZER;CN="Pizzeria Valgrande":MAILTO:pizzeriavalgrande@icloud.com
END:VEVENT
BEGIN:VEVENT
DTSTART;TZID=Europe/Paris:20190630T140000
DTEND;TZID=Europe/Paris:20190630T150000
DTSTAMP:20260420T214326
CREATED:20190624T111210Z
LAST-MODIFIED:20190624T111242Z
UID:693-1561903200-1561906800@pizzeriavalgrande.com
SUMMARY:MotoGp Olanda su Sky: Prenota subito il tuo tavolo!
DESCRIPTION:Chiama subito 0364560515!!!
URL:https://pizzeriavalgrande.com/event/motogp-olanda-su-sky-prenota-subito-il-tuo-tavolo/
LOCATION:Pizzeria Valgrande\, Via Plan di Montecampione 58\, Artogne\, 25040\, Italia
ORGANIZER;CN="Pizzeria Valgrande":MAILTO:pizzeriavalgrande@icloud.com
END:VEVENT
BEGIN:VEVENT
DTSTART;TZID=Europe/Paris:20190602T140000
DTEND;TZID=Europe/Paris:20190602T150000
DTSTAMP:20260420T214326
CREATED:20190530T054130Z
LAST-MODIFIED:20190530T054130Z
UID:660-1559484000-1559487600@pizzeriavalgrande.com
SUMMARY:MotoGp Italia su Sky: Prenota subito il tuo tavolo!
DESCRIPTION:Chiama subito 0364560515!!!
URL:https://pizzeriavalgrande.com/event/motogp-italia-su-sky-prenota-subito-il-tuo-tavolo/
LOCATION:Pizzeria Valgrande\, Via Plan di Montecampione 58\, Artogne\, 25040\, Italia
ORGANIZER;CN="Pizzeria Valgrande":MAILTO:pizzeriavalgrande@icloud.com
END:VEVENT
BEGIN:VEVENT
DTSTART;TZID=Europe/Paris:20190519T140000
DTEND;TZID=Europe/Paris:20190519T150000
DTSTAMP:20260420T214326
CREATED:20190517T160335Z
LAST-MODIFIED:20190517T160335Z
UID:610-1558274400-1558278000@pizzeriavalgrande.com
SUMMARY:MotoGp Francia su Sky: Prenota subito il tuo tavolo!
DESCRIPTION:Chiama subito 0364560515!!!
URL:https://pizzeriavalgrande.com/event/motogp-francia-su-sky-prenota-subito-il-tuo-tavolo/
LOCATION:Pizzeria Valgrande\, Via Plan di Montecampione 58\, Artogne\, 25040\, Italia
ORGANIZER;CN="Pizzeria Valgrande":MAILTO:pizzeriavalgrande@icloud.com
END:VEVENT
BEGIN:VEVENT
DTSTART;TZID=Europe/Paris:20190505T170000
DTEND;TZID=Europe/Paris:20190505T183000
DTSTAMP:20260420T214326
CREATED:20190502T075802Z
LAST-MODIFIED:20190502T075802Z
UID:566-1557075600-1557081000@pizzeriavalgrande.com
SUMMARY:MotoGp Spagna su Sky: Prenota subito il tuo tavolo!
DESCRIPTION:Chiama subito 0364560515!!!
URL:https://pizzeriavalgrande.com/event/motogp-spagna-su-sky-prenota-subito-il-tuo-tavolo/
LOCATION:Pizzeria Valgrande\, Via Plan di Montecampione 58\, Artogne\, 25040\, Italia
ORGANIZER;CN="Pizzeria Valgrande":MAILTO:pizzeriavalgrande@icloud.com
END:VEVENT
BEGIN:VEVENT
DTSTART;TZID=Europe/Paris:20190331T200000
DTEND;TZID=Europe/Paris:20190331T205000
DTSTAMP:20260420T214326
CREATED:20190327T105811Z
LAST-MODIFIED:20190329T160439Z
UID:140-1554062400-1554065400@pizzeriavalgrande.com
SUMMARY:MotoGp Argentina su Sky: Prenota subito il tuo tavolo!
DESCRIPTION:Chiama subito 0364560515!!!
URL:https://pizzeriavalgrande.com/event/motogp-argentina-su-sky-prenota-il-tuo-tavolo/
LOCATION:Pizzeria Valgrande\, Via Plan di Montecampione 58\, Artogne\, 25040\, Italia
ORGANIZER;CN="Pizzeria Valgrande":MAILTO:pizzeriavalgrande@icloud.com
END:VEVENT
END:VCALENDAR