BEGIN:VCALENDAR
VERSION:2.0
PRODID:-//Pizzeria Valgrande Montecampione - ECPv6.15.20//NONSGML v1.0//EN
CALSCALE:GREGORIAN
METHOD:PUBLISH
X-ORIGINAL-URL:https://pizzeriavalgrande.com
X-WR-CALDESC:Eventi per Pizzeria Valgrande Montecampione
REFRESH-INTERVAL;VALUE=DURATION:PT1H
X-Robots-Tag:noindex
X-PUBLISHED-TTL:PT1H
BEGIN:VTIMEZONE
TZID:Europe/Paris
BEGIN:DAYLIGHT
TZOFFSETFROM:+0100
TZOFFSETTO:+0200
TZNAME:CEST
DTSTART:20190331T010000
END:DAYLIGHT
BEGIN:STANDARD
TZOFFSETFROM:+0200
TZOFFSETTO:+0100
TZNAME:CET
DTSTART:20191027T010000
END:STANDARD
BEGIN:DAYLIGHT
TZOFFSETFROM:+0100
TZOFFSETTO:+0200
TZNAME:CEST
DTSTART:20200329T010000
END:DAYLIGHT
BEGIN:STANDARD
TZOFFSETFROM:+0200
TZOFFSETTO:+0100
TZNAME:CET
DTSTART:20201025T010000
END:STANDARD
BEGIN:DAYLIGHT
TZOFFSETFROM:+0100
TZOFFSETTO:+0200
TZNAME:CEST
DTSTART:20210328T010000
END:DAYLIGHT
BEGIN:STANDARD
TZOFFSETFROM:+0200
TZOFFSETTO:+0100
TZNAME:CET
DTSTART:20211031T010000
END:STANDARD
END:VTIMEZONE
BEGIN:VEVENT
DTSTART;TZID=Europe/Paris:20200819T210000
DTEND;TZID=Europe/Paris:20200819T230000
DTSTAMP:20260425T162638
CREATED:20200817T070739Z
LAST-MODIFIED:20200817T071846Z
UID:1394-1597870800-1597878000@pizzeriavalgrande.com
SUMMARY:Lione - Bayern Monaco di Champions League su Sky: Prenota subito il tuo tavolo!
DESCRIPTION:
URL:https://pizzeriavalgrande.com/event/semifinale-di-europa-league-su-sky-prenota-subito-il-tuo-tavolo/
LOCATION:Pizzeria Valgrande\, Via Plan di Montecampione 58\, Artogne\, 25040\, Italia
ORGANIZER;CN="Pizzeria Valgrande":MAILTO:pizzeriavalgrande@icloud.com
END:VEVENT
BEGIN:VEVENT
DTSTART;TZID=Europe/Paris:20200815T210000
DTEND;TZID=Europe/Paris:20200815T230000
DTSTAMP:20260425T162638
CREATED:20200812T064653Z
LAST-MODIFIED:20200812T064653Z
UID:1373-1597525200-1597532400@pizzeriavalgrande.com
SUMMARY:Manchester City - Lione di Champions League su Sky: Prenota subito il tuo tavolo!
DESCRIPTION:
URL:https://pizzeriavalgrande.com/event/manchester-city-lione-di-champions-league-su-sky-prenota-subito-il-tuo-tavolo/
LOCATION:Pizzeria Valgrande\, Via Plan di Montecampione 58\, Artogne\, 25040\, Italia
ORGANIZER;CN="Pizzeria Valgrande":MAILTO:pizzeriavalgrande@icloud.com
END:VEVENT
BEGIN:VEVENT
DTSTART;TZID=Europe/Paris:20200807T210000
DTEND;TZID=Europe/Paris:20200807T230000
DTSTAMP:20260425T162638
CREATED:20200801T122239Z
LAST-MODIFIED:20200801T122239Z
UID:1320-1596834000-1596841200@pizzeriavalgrande.com
SUMMARY:Juventus - Lione di Champions League su Sky: Prenota subito il tuo tavolo!
DESCRIPTION:
URL:https://pizzeriavalgrande.com/event/juventus-lione-di-champions-league-su-sky-prenota-subito-il-tuo-tavolo/
LOCATION:Pizzeria Valgrande\, Via Plan di Montecampione 58\, Artogne\, 25040\, Italia
ORGANIZER;CN="Pizzeria Valgrande":MAILTO:pizzeriavalgrande@icloud.com
END:VEVENT
END:VCALENDAR