BEGIN:VCALENDAR
VERSION:2.0
PRODID:-//Pizzeria Valgrande Montecampione - ECPv6.15.20//NONSGML v1.0//EN
CALSCALE:GREGORIAN
METHOD:PUBLISH
X-WR-CALNAME:Pizzeria Valgrande Montecampione
X-ORIGINAL-URL:https://pizzeriavalgrande.com
X-WR-CALDESC:Eventi per Pizzeria Valgrande Montecampione
REFRESH-INTERVAL;VALUE=DURATION:PT1H
X-Robots-Tag:noindex
X-PUBLISHED-TTL:PT1H
BEGIN:VTIMEZONE
TZID:Europe/Paris
BEGIN:DAYLIGHT
TZOFFSETFROM:+0100
TZOFFSETTO:+0200
TZNAME:CEST
DTSTART:20180325T010000
END:DAYLIGHT
BEGIN:STANDARD
TZOFFSETFROM:+0200
TZOFFSETTO:+0100
TZNAME:CET
DTSTART:20181028T010000
END:STANDARD
BEGIN:DAYLIGHT
TZOFFSETFROM:+0100
TZOFFSETTO:+0200
TZNAME:CEST
DTSTART:20190331T010000
END:DAYLIGHT
BEGIN:STANDARD
TZOFFSETFROM:+0200
TZOFFSETTO:+0100
TZNAME:CET
DTSTART:20191027T010000
END:STANDARD
BEGIN:DAYLIGHT
TZOFFSETFROM:+0100
TZOFFSETTO:+0200
TZNAME:CEST
DTSTART:20200329T010000
END:DAYLIGHT
BEGIN:STANDARD
TZOFFSETFROM:+0200
TZOFFSETTO:+0100
TZNAME:CET
DTSTART:20201025T010000
END:STANDARD
BEGIN:DAYLIGHT
TZOFFSETFROM:+0100
TZOFFSETTO:+0200
TZNAME:CEST
DTSTART:20210328T010000
END:DAYLIGHT
BEGIN:STANDARD
TZOFFSETFROM:+0200
TZOFFSETTO:+0100
TZNAME:CET
DTSTART:20211031T010000
END:STANDARD
BEGIN:DAYLIGHT
TZOFFSETFROM:+0100
TZOFFSETTO:+0200
TZNAME:CEST
DTSTART:20220327T010000
END:DAYLIGHT
BEGIN:STANDARD
TZOFFSETFROM:+0200
TZOFFSETTO:+0100
TZNAME:CET
DTSTART:20221030T010000
END:STANDARD
END:VTIMEZONE
BEGIN:VEVENT
DTSTART;TZID=Europe/Paris:20210915T203000
DTEND;TZID=Europe/Paris:20210915T230000
DTSTAMP:20260425T131649
CREATED:20210915T151424Z
LAST-MODIFIED:20210915T152751Z
UID:1800-1631737800-1631746800@pizzeriavalgrande.com
SUMMARY:Liverpool - Milan ed Inter - Real Madrid di Champions League: Prenota subito il tuo tavolo!
DESCRIPTION:Chiama subito 0364560515!!!
URL:https://pizzeriavalgrande.com/event/liverpool-milan-di-champions-league-prenota-subito-il-tuo-tavolo/
LOCATION:Pizzeria Valgrande\, Via Plan di Montecampione 58\, Artogne\, 25040\, Italia
ORGANIZER;CN="Pizzeria Valgrande":MAILTO:pizzeriavalgrande@icloud.com
END:VEVENT
BEGIN:VEVENT
DTSTART;TZID=Europe/Paris:20200823T210000
DTEND;TZID=Europe/Paris:20200823T230000
DTSTAMP:20260425T131649
CREATED:20200817T065653Z
LAST-MODIFIED:20200819T204832Z
UID:1386-1598216400-1598223600@pizzeriavalgrande.com
SUMMARY:Bayern Monaco - Paris Saint German di Champions League su Sky: Prenota subito il tuo tavolo!
DESCRIPTION:
URL:https://pizzeriavalgrande.com/event/finale-di-champions-league-su-sky-prenota-subito-il-tuo-tavolo/
LOCATION:Pizzeria Valgrande\, Via Plan di Montecampione 58\, Artogne\, 25040\, Italia
ORGANIZER;CN="Pizzeria Valgrande":MAILTO:pizzeriavalgrande@icloud.com
END:VEVENT
BEGIN:VEVENT
DTSTART;TZID=Europe/Paris:20200819T210000
DTEND;TZID=Europe/Paris:20200819T230000
DTSTAMP:20260425T131649
CREATED:20200817T070739Z
LAST-MODIFIED:20200817T071846Z
UID:1394-1597870800-1597878000@pizzeriavalgrande.com
SUMMARY:Lione - Bayern Monaco di Champions League su Sky: Prenota subito il tuo tavolo!
DESCRIPTION:
URL:https://pizzeriavalgrande.com/event/semifinale-di-europa-league-su-sky-prenota-subito-il-tuo-tavolo/
LOCATION:Pizzeria Valgrande\, Via Plan di Montecampione 58\, Artogne\, 25040\, Italia
ORGANIZER;CN="Pizzeria Valgrande":MAILTO:pizzeriavalgrande@icloud.com
END:VEVENT
BEGIN:VEVENT
DTSTART;TZID=Europe/Paris:20200818T210000
DTEND;TZID=Europe/Paris:20200818T230000
DTSTAMP:20260425T131649
CREATED:20200817T071050Z
LAST-MODIFIED:20200817T071050Z
UID:1396-1597784400-1597791600@pizzeriavalgrande.com
SUMMARY:Lipsia - Paris Saint Germain di Champions League su Sky: Prenota subito il tuo tavolo!
DESCRIPTION:
URL:https://pizzeriavalgrande.com/event/lipsia-paris-saint-germain-di-champions-league-su-sky-prenota-subito-il-tuo-tavolo/
LOCATION:Pizzeria Valgrande\, Via Plan di Montecampione 58\, Artogne\, 25040\, Italia
ORGANIZER;CN="Pizzeria Valgrande":MAILTO:pizzeriavalgrande@icloud.com
END:VEVENT
BEGIN:VEVENT
DTSTART;TZID=Europe/Paris:20200815T210000
DTEND;TZID=Europe/Paris:20200815T230000
DTSTAMP:20260425T131649
CREATED:20200812T064653Z
LAST-MODIFIED:20200812T064653Z
UID:1373-1597525200-1597532400@pizzeriavalgrande.com
SUMMARY:Manchester City - Lione di Champions League su Sky: Prenota subito il tuo tavolo!
DESCRIPTION:
URL:https://pizzeriavalgrande.com/event/manchester-city-lione-di-champions-league-su-sky-prenota-subito-il-tuo-tavolo/
LOCATION:Pizzeria Valgrande\, Via Plan di Montecampione 58\, Artogne\, 25040\, Italia
ORGANIZER;CN="Pizzeria Valgrande":MAILTO:pizzeriavalgrande@icloud.com
END:VEVENT
BEGIN:VEVENT
DTSTART;TZID=Europe/Paris:20200814T210000
DTEND;TZID=Europe/Paris:20200814T230000
DTSTAMP:20260425T131649
CREATED:20200812T064452Z
LAST-MODIFIED:20200812T064452Z
UID:1371-1597438800-1597446000@pizzeriavalgrande.com
SUMMARY:Barcelona - Bayern Monaco di Champions League su Sky: Prenota subito il tuo tavolo!
DESCRIPTION:
URL:https://pizzeriavalgrande.com/event/barcelona-bayern-monaco-di-champions-league-su-sky-prenota-subito-il-tuo-tavolo/
LOCATION:Pizzeria Valgrande\, Via Plan di Montecampione 58\, Artogne\, 25040\, Italia
ORGANIZER;CN="Pizzeria Valgrande":MAILTO:pizzeriavalgrande@icloud.com
END:VEVENT
BEGIN:VEVENT
DTSTART;TZID=Europe/Paris:20200813T210000
DTEND;TZID=Europe/Paris:20200813T230000
DTSTAMP:20260425T131649
CREATED:20200812T064218Z
LAST-MODIFIED:20200812T064218Z
UID:1369-1597352400-1597359600@pizzeriavalgrande.com
SUMMARY:Lipsia - Atletico Madrid di Champions League su Sky: Prenota subito il tuo tavolo!
DESCRIPTION:
URL:https://pizzeriavalgrande.com/event/lipsia-atletico-madrid-di-champions-league-su-sky-prenota-subito-il-tuo-tavolo/
LOCATION:Pizzeria Valgrande\, Via Plan di Montecampione 58\, Artogne\, 25040\, Italia
ORGANIZER;CN="Pizzeria Valgrande":MAILTO:pizzeriavalgrande@icloud.com
END:VEVENT
BEGIN:VEVENT
DTSTART;TZID=Europe/Paris:20200812T210000
DTEND;TZID=Europe/Paris:20200812T230000
DTSTAMP:20260425T131649
CREATED:20200812T063935Z
LAST-MODIFIED:20200812T063935Z
UID:1367-1597266000-1597273200@pizzeriavalgrande.com
SUMMARY:Atalanta - Paris Saint German di Champions League su Sky: Prenota subito il tuo tavolo!
DESCRIPTION:
URL:https://pizzeriavalgrande.com/event/atalanta-paris-saint-german-di-champions-league-su-sky-prenota-subito-il-tuo-tavolo/
LOCATION:Pizzeria Valgrande\, Via Plan di Montecampione 58\, Artogne\, 25040\, Italia
ORGANIZER;CN="Pizzeria Valgrande":MAILTO:pizzeriavalgrande@icloud.com
END:VEVENT
BEGIN:VEVENT
DTSTART;TZID=Europe/Paris:20200808T210000
DTEND;TZID=Europe/Paris:20200808T230000
DTSTAMP:20260425T131649
CREATED:20200802T204458Z
LAST-MODIFIED:20200802T204458Z
UID:1346-1596920400-1596927600@pizzeriavalgrande.com
SUMMARY:Barcelona - Napoli di Champions League su Sky: Prenota subito il tuo tavolo!
DESCRIPTION:
URL:https://pizzeriavalgrande.com/event/barcelona-napoli-di-champions-league-su-sky-prenota-subito-il-tuo-tavolo/
LOCATION:Pizzeria Valgrande\, Via Plan di Montecampione 58\, Artogne\, 25040\, Italia
ORGANIZER;CN="Pizzeria Valgrande":MAILTO:pizzeriavalgrande@icloud.com
END:VEVENT
BEGIN:VEVENT
DTSTART;TZID=Europe/Paris:20200807T210000
DTEND;TZID=Europe/Paris:20200807T230000
DTSTAMP:20260425T131649
CREATED:20200801T122239Z
LAST-MODIFIED:20200801T122239Z
UID:1320-1596834000-1596841200@pizzeriavalgrande.com
SUMMARY:Juventus - Lione di Champions League su Sky: Prenota subito il tuo tavolo!
DESCRIPTION:
URL:https://pizzeriavalgrande.com/event/juventus-lione-di-champions-league-su-sky-prenota-subito-il-tuo-tavolo/
LOCATION:Pizzeria Valgrande\, Via Plan di Montecampione 58\, Artogne\, 25040\, Italia
ORGANIZER;CN="Pizzeria Valgrande":MAILTO:pizzeriavalgrande@icloud.com
END:VEVENT
BEGIN:VEVENT
DTSTART;TZID=Europe/Paris:20191216T120000
DTEND;TZID=Europe/Paris:20191216T131500
DTSTAMP:20260425T131649
CREATED:20191211T124618Z
LAST-MODIFIED:20191211T124618Z
UID:910-1576497600-1576502100@pizzeriavalgrande.com
SUMMARY:Sorteggio Champions League su Sky:
DESCRIPTION:Chiama subito 0364560515!!!
URL:https://pizzeriavalgrande.com/event/sorteggio-champions-league-su-sky/
LOCATION:Pizzeria Valgrande\, Via Plan di Montecampione 58\, Artogne\, 25040\, Italia
ORGANIZER;CN="Pizzeria Valgrande":MAILTO:pizzeriavalgrande@icloud.com
END:VEVENT
BEGIN:VEVENT
DTSTART;TZID=Europe/Paris:20191211T210000
DTEND;TZID=Europe/Paris:20191211T230000
DTSTAMP:20260425T131649
CREATED:20191209T122448Z
LAST-MODIFIED:20191209T122448Z
UID:892-1576098000-1576105200@pizzeriavalgrande.com
SUMMARY:Bayer L. - Juventus di Champions League su Sky: Prenota subito il tuo tavolo!
DESCRIPTION:Chiama subito 0364560515!!!
URL:https://pizzeriavalgrande.com/event/bayer-l-juventus-di-champions-league-su-sky-prenota-subito-il-tuo-tavolo/
LOCATION:Pizzeria Valgrande\, Via Plan di Montecampione 58\, Artogne\, 25040\, Italia
ORGANIZER;CN="Pizzeria Valgrande":MAILTO:pizzeriavalgrande@icloud.com
END:VEVENT
BEGIN:VEVENT
DTSTART;TZID=Europe/Paris:20191211T185500
DTEND;TZID=Europe/Paris:20191211T210000
DTSTAMP:20260425T131649
CREATED:20191209T122051Z
LAST-MODIFIED:20191209T122051Z
UID:889-1576090500-1576098000@pizzeriavalgrande.com
SUMMARY:Shakhtar D. - Atalanta di Champions League su Sky: Prenota subito il tuo tavolo!
DESCRIPTION:Chiama subito 0364560515!!!
URL:https://pizzeriavalgrande.com/event/shakhtar-d-atalanta-di-champions-league-su-sky-prenota-subito-il-tuo-tavolo/
LOCATION:Pizzeria Valgrande\, Via Plan di Montecampione 58\, Artogne\, 25040\, Italia
ORGANIZER;CN="Pizzeria Valgrande":MAILTO:pizzeriavalgrande@icloud.com
END:VEVENT
BEGIN:VEVENT
DTSTART;TZID=Europe/Paris:20191210T210000
DTEND;TZID=Europe/Paris:20191210T230000
DTSTAMP:20260425T131649
CREATED:20191209T122746Z
LAST-MODIFIED:20191209T122746Z
UID:894-1576011600-1576018800@pizzeriavalgrande.com
SUMMARY:Inter - Barcellona di Champions League su Sky: Prenota subito il tuo tavolo!
DESCRIPTION:Chiama subito 0364560515!!!
URL:https://pizzeriavalgrande.com/event/inter-barcellona-di-champions-league-su-sky-prenota-subito-il-tuo-tavolo/
LOCATION:Pizzeria Valgrande\, Via Plan di Montecampione 58\, Artogne\, 25040\, Italia
ORGANIZER;CN="Pizzeria Valgrande":MAILTO:pizzeriavalgrande@icloud.com
END:VEVENT
BEGIN:VEVENT
DTSTART;TZID=Europe/Paris:20191210T185500
DTEND;TZID=Europe/Paris:20191210T210000
DTSTAMP:20260425T131649
CREATED:20191209T122938Z
LAST-MODIFIED:20191209T122938Z
UID:896-1576004100-1576011600@pizzeriavalgrande.com
SUMMARY:Napoli - Genk di Champions League su Sky: Prenota subito il tuo tavolo!
DESCRIPTION:Chiama subito 0364560515!!!
URL:https://pizzeriavalgrande.com/event/napoli-genk-di-champions-league-su-sky-prenota-subito-il-tuo-tavolo/
LOCATION:Pizzeria Valgrande\, Via Plan di Montecampione 58\, Artogne\, 25040\, Italia
ORGANIZER;CN="Pizzeria Valgrande":MAILTO:pizzeriavalgrande@icloud.com
END:VEVENT
BEGIN:VEVENT
DTSTART;TZID=Europe/Paris:20190601T200000
DTEND;TZID=Europe/Paris:20190601T230000
DTSTAMP:20260425T131649
CREATED:20190530T053524Z
LAST-MODIFIED:20190530T053524Z
UID:658-1559419200-1559430000@pizzeriavalgrande.com
SUMMARY:Tottenham – Liverpool su Sky: Prenota subito il tuo tavolo!
DESCRIPTION:Chiama subito 0364560515!!!
URL:https://pizzeriavalgrande.com/event/tottenham-liverpool-su-sky-prenota-subito-il-tuo-tavolo/
LOCATION:Pizzeria Valgrande\, Via Plan di Montecampione 58\, Artogne\, 25040\, Italia
ORGANIZER;CN="Pizzeria Valgrande":MAILTO:pizzeriavalgrande@icloud.com
END:VEVENT
END:VCALENDAR