BEGIN:VCALENDAR
VERSION:2.0
PRODID:-//Pizzeria Valgrande Montecampione - ECPv6.15.20//NONSGML v1.0//EN
CALSCALE:GREGORIAN
METHOD:PUBLISH
X-WR-CALNAME:Pizzeria Valgrande Montecampione
X-ORIGINAL-URL:http://pizzeriavalgrande.com
X-WR-CALDESC:Eventi per Pizzeria Valgrande Montecampione
REFRESH-INTERVAL;VALUE=DURATION:PT1H
X-Robots-Tag:noindex
X-PUBLISHED-TTL:PT1H
BEGIN:VTIMEZONE
TZID:Europe/Paris
BEGIN:DAYLIGHT
TZOFFSETFROM:+0100
TZOFFSETTO:+0200
TZNAME:CEST
DTSTART:20180325T010000
END:DAYLIGHT
BEGIN:STANDARD
TZOFFSETFROM:+0200
TZOFFSETTO:+0100
TZNAME:CET
DTSTART:20181028T010000
END:STANDARD
BEGIN:DAYLIGHT
TZOFFSETFROM:+0100
TZOFFSETTO:+0200
TZNAME:CEST
DTSTART:20190331T010000
END:DAYLIGHT
BEGIN:STANDARD
TZOFFSETFROM:+0200
TZOFFSETTO:+0100
TZNAME:CET
DTSTART:20191027T010000
END:STANDARD
BEGIN:DAYLIGHT
TZOFFSETFROM:+0100
TZOFFSETTO:+0200
TZNAME:CEST
DTSTART:20200329T010000
END:DAYLIGHT
BEGIN:STANDARD
TZOFFSETFROM:+0200
TZOFFSETTO:+0100
TZNAME:CET
DTSTART:20201025T010000
END:STANDARD
BEGIN:DAYLIGHT
TZOFFSETFROM:+0100
TZOFFSETTO:+0200
TZNAME:CEST
DTSTART:20210328T010000
END:DAYLIGHT
BEGIN:STANDARD
TZOFFSETFROM:+0200
TZOFFSETTO:+0100
TZNAME:CET
DTSTART:20211031T010000
END:STANDARD
BEGIN:DAYLIGHT
TZOFFSETFROM:+0100
TZOFFSETTO:+0200
TZNAME:CEST
DTSTART:20220327T010000
END:DAYLIGHT
BEGIN:STANDARD
TZOFFSETFROM:+0200
TZOFFSETTO:+0100
TZNAME:CET
DTSTART:20221030T010000
END:STANDARD
END:VTIMEZONE
BEGIN:VEVENT
DTSTART;TZID=Europe/Paris:20211030T180000
DTEND;TZID=Europe/Paris:20211030T200000
DTSTAMP:20260420T025536
CREATED:20211026T185158Z
LAST-MODIFIED:20211026T185158Z
UID:1885-1635616800-1635624000@pizzeriavalgrande.com
SUMMARY:Verona - Juventus: Prenota subito il tuo posto!
DESCRIPTION:Chiama subito 0364560515!!!
URL:http://pizzeriavalgrande.com/event/verona-juventus-prenota-subito-il-tuo-posto/
LOCATION:Pizzeria Valgrande\, Via Plan di Montecampione 58\, Artogne\, 25040\, Italia
ORGANIZER;CN="Pizzeria Valgrande":MAILTO:pizzeriavalgrande@icloud.com
END:VEVENT
BEGIN:VEVENT
DTSTART;TZID=Europe/Paris:20211016T203000
DTEND;TZID=Europe/Paris:20211016T223000
DTSTAMP:20260420T025536
CREATED:20211013T132526Z
LAST-MODIFIED:20211013T132526Z
UID:1856-1634416200-1634423400@pizzeriavalgrande.com
SUMMARY:Milan - Verona: Prenota subito il tuo posto!
DESCRIPTION:Chiama subito 0364560515!!!
URL:http://pizzeriavalgrande.com/event/milan-verona-prenota-subito-il-tuo-posto/
LOCATION:Pizzeria Valgrande\, Via Plan di Montecampione 58\, Artogne\, 25040\, Italia
ORGANIZER;CN="Pizzeria Valgrande":MAILTO:pizzeriavalgrande@icloud.com
END:VEVENT
BEGIN:VEVENT
DTSTART;TZID=Europe/Paris:20210827T200000
DTEND;TZID=Europe/Paris:20210827T200000
DTSTAMP:20260420T025536
CREATED:20210825T085312Z
LAST-MODIFIED:20210825T123208Z
UID:1675-1630094400-1630094400@pizzeriavalgrande.com
SUMMARY:Verona – Inter su Sky: Prenota subito il tuo posto!
DESCRIPTION:Chiama subito 0364560515!!!
URL:http://pizzeriavalgrande.com/event/verona-inter-su-dazn-prenota-subito-il-tuo-posto/
LOCATION:Pizzeria Valgrande\, Via Plan di Montecampione 58\, Artogne\, 25040\, Italia
ORGANIZER;CN="Pizzeria Valgrande":MAILTO:pizzeriavalgrande@icloud.com
END:VEVENT
BEGIN:VEVENT
DTSTART;TZID=Europe/Paris:20200718T171500
DTEND;TZID=Europe/Paris:20200718T191500
DTSTAMP:20260420T025536
CREATED:20200713T091959Z
LAST-MODIFIED:20200713T091959Z
UID:1242-1595092500-1595099700@pizzeriavalgrande.com
SUMMARY:Verona - Atalanta su Sky: Prenota subito il tuo posto!
DESCRIPTION:
URL:http://pizzeriavalgrande.com/event/verona-atalanta-su-sky-prenota-subito-il-tuo-posto/
LOCATION:Pizzeria Valgrande\, Via Plan di Montecampione 58\, Artogne\, 25040\, Italia
ORGANIZER;CN="Pizzeria Valgrande":MAILTO:pizzeriavalgrande@icloud.com
END:VEVENT
BEGIN:VEVENT
DTSTART;TZID=Europe/Paris:20200709T214500
DTEND;TZID=Europe/Paris:20200709T234500
DTSTAMP:20260420T025536
CREATED:20200705T073045Z
LAST-MODIFIED:20200705T075007Z
UID:1191-1594331100-1594338300@pizzeriavalgrande.com
SUMMARY:Verona - Inter su Sky: Prenota subito il tuo posto!
DESCRIPTION:
URL:http://pizzeriavalgrande.com/event/verona-inter-su-sky-prenota-subito-il-tuo-tavolo/
LOCATION:Pizzeria Valgrande\, Via Plan di Montecampione 58\, Artogne\, 25040\, Italia
ORGANIZER;CN="Pizzeria Valgrande":MAILTO:pizzeriavalgrande@icloud.com
END:VEVENT
BEGIN:VEVENT
DTSTART;TZID=Europe/Paris:20200208T204500
DTEND;TZID=Europe/Paris:20200208T224500
DTSTAMP:20260420T025536
CREATED:20200129T181210Z
LAST-MODIFIED:20200129T181210Z
UID:1041-1581194700-1581201900@pizzeriavalgrande.com
SUMMARY:Verona - Juventus su DAZN
DESCRIPTION:Chiama subito 0364560515!!!
URL:http://pizzeriavalgrande.com/event/verona-juventus-su-dazn/
LOCATION:Pizzeria Valgrande\, Via Plan di Montecampione 58\, Artogne\, 25040\, Italia
ORGANIZER;CN="Pizzeria Valgrande":MAILTO:pizzeriavalgrande@icloud.com
END:VEVENT
BEGIN:VEVENT
DTSTART;TZID=Europe/Paris:20200205T204500
DTEND;TZID=Europe/Paris:20200205T224500
DTSTAMP:20260420T025536
CREATED:20200129T181356Z
LAST-MODIFIED:20200129T181356Z
UID:1043-1580935500-1580942700@pizzeriavalgrande.com
SUMMARY:Lazio - Verona su DAZN: Prenota subito il tuo tavolo!
DESCRIPTION:Chiama subito 0364560515!!!
URL:http://pizzeriavalgrande.com/event/lazio-verona-su-dazn-prenota-subito-il-tuo-tavolo/
LOCATION:Pizzeria Valgrande\, Via Plan di Montecampione 58\, Artogne\, 25040\, Italia
ORGANIZER;CN="Pizzeria Valgrande":MAILTO:pizzeriavalgrande@icloud.com
END:VEVENT
BEGIN:VEVENT
DTSTART;TZID=Europe/Paris:20200202T150000
DTEND;TZID=Europe/Paris:20200202T170000
DTSTAMP:20260420T025536
CREATED:20200129T175949Z
LAST-MODIFIED:20200129T175949Z
UID:1033-1580655600-1580662800@pizzeriavalgrande.com
SUMMARY:Milan - Verona su Sky: Prenota subito il tuo tavolo!
DESCRIPTION:Chiama subito 0364560515!!!
URL:http://pizzeriavalgrande.com/event/milan-verona-su-sky-prenota-subito-il-tuo-tavolo/
LOCATION:Pizzeria Valgrande\, Via Plan di Montecampione 58\, Artogne\, 25040\, Italia
ORGANIZER;CN="Pizzeria Valgrande":MAILTO:pizzeriavalgrande@icloud.com
END:VEVENT
BEGIN:VEVENT
DTSTART;TZID=Europe/Paris:20191207T150000
DTEND;TZID=Europe/Paris:20191207T170000
DTSTAMP:20260420T025536
CREATED:20191203T103552Z
LAST-MODIFIED:20191203T105103Z
UID:837-1575730800-1575738000@pizzeriavalgrande.com
SUMMARY:Atalanta - Verona su Sky: Prenota subito il tuo tavolo!
DESCRIPTION:Chiama subito 0364560515!!!
URL:http://pizzeriavalgrande.com/event/atalanta-verona-su-sky-prenota-subito-il-tuo-tavolo/
LOCATION:Pizzeria Valgrande\, Via Plan di Montecampione 58\, Artogne\, 25040\, Italia
ORGANIZER;CN="Pizzeria Valgrande":MAILTO:pizzeriavalgrande@icloud.com
END:VEVENT
END:VCALENDAR