BEGIN:VCALENDAR
VERSION:2.0
PRODID:-//Pizzeria Valgrande Montecampione - ECPv6.15.20//NONSGML v1.0//EN
CALSCALE:GREGORIAN
METHOD:PUBLISH
X-WR-CALNAME:Pizzeria Valgrande Montecampione
X-ORIGINAL-URL:http://pizzeriavalgrande.com
X-WR-CALDESC:Eventi per Pizzeria Valgrande Montecampione
REFRESH-INTERVAL;VALUE=DURATION:PT1H
X-Robots-Tag:noindex
X-PUBLISHED-TTL:PT1H
BEGIN:VTIMEZONE
TZID:Europe/Paris
BEGIN:DAYLIGHT
TZOFFSETFROM:+0100
TZOFFSETTO:+0200
TZNAME:CEST
DTSTART:20190331T010000
END:DAYLIGHT
BEGIN:STANDARD
TZOFFSETFROM:+0200
TZOFFSETTO:+0100
TZNAME:CET
DTSTART:20191027T010000
END:STANDARD
BEGIN:DAYLIGHT
TZOFFSETFROM:+0100
TZOFFSETTO:+0200
TZNAME:CEST
DTSTART:20200329T010000
END:DAYLIGHT
BEGIN:STANDARD
TZOFFSETFROM:+0200
TZOFFSETTO:+0100
TZNAME:CET
DTSTART:20201025T010000
END:STANDARD
BEGIN:DAYLIGHT
TZOFFSETFROM:+0100
TZOFFSETTO:+0200
TZNAME:CEST
DTSTART:20210328T010000
END:DAYLIGHT
BEGIN:STANDARD
TZOFFSETFROM:+0200
TZOFFSETTO:+0100
TZNAME:CET
DTSTART:20211031T010000
END:STANDARD
BEGIN:DAYLIGHT
TZOFFSETFROM:+0100
TZOFFSETTO:+0200
TZNAME:CEST
DTSTART:20220327T010000
END:DAYLIGHT
BEGIN:STANDARD
TZOFFSETFROM:+0200
TZOFFSETTO:+0100
TZNAME:CET
DTSTART:20221030T010000
END:STANDARD
END:VTIMEZONE
BEGIN:VEVENT
DTSTART;TZID=Europe/Paris:20211101T123000
DTEND;TZID=Europe/Paris:20211101T143000
DTSTAMP:20260419T203135
CREATED:20211026T191241Z
LAST-MODIFIED:20211026T191241Z
UID:1901-1635769800-1635777000@pizzeriavalgrande.com
SUMMARY:Benevento  - Brescia: Prenota subito il tuo posto!
DESCRIPTION:Chiama subito 0364560515!!!
URL:http://pizzeriavalgrande.com/event/benevento-brescia-prenota-subito-il-tuo-posto/
LOCATION:Pizzeria Valgrande\, Via Plan di Montecampione 58\, Artogne\, 25040\, Italia
ORGANIZER;CN="Pizzeria Valgrande":MAILTO:pizzeriavalgrande@icloud.com
END:VEVENT
BEGIN:VEVENT
DTSTART;TZID=Europe/Paris:20211016T161500
DTEND;TZID=Europe/Paris:20211016T180000
DTSTAMP:20260419T203135
CREATED:20211013T132005Z
LAST-MODIFIED:20211013T132005Z
UID:1851-1634400900-1634407200@pizzeriavalgrande.com
SUMMARY:Perugia - Brescia: Prenota subito il tuo posto!
DESCRIPTION:Chiama subito 0364560515!!!
URL:http://pizzeriavalgrande.com/event/perugia-brescia-prenota-subito-il-tuo-posto/
LOCATION:Pizzeria Valgrande\, Via Plan di Montecampione 58\, Artogne\, 25040\, Italia
ORGANIZER;CN="Pizzeria Valgrande":MAILTO:pizzeriavalgrande@icloud.com
END:VEVENT
BEGIN:VEVENT
DTSTART;TZID=Europe/Paris:20211003T140000
DTEND;TZID=Europe/Paris:20211003T183000
DTSTAMP:20260419T203135
CREATED:20210928T074023Z
LAST-MODIFIED:20210928T074023Z
UID:1832-1633269600-1633285800@pizzeriavalgrande.com
SUMMARY:Brescia - Como: Prenota subito il tuo posto!
DESCRIPTION:Chiama subito 0364560515!!!
URL:http://pizzeriavalgrande.com/event/brescia-como-prenota-subito-il-tuo-posto/
LOCATION:Pizzeria Valgrande\, Via Plan di Montecampione 58\, Artogne\, 25040\, Italia
ORGANIZER;CN="Pizzeria Valgrande":MAILTO:pizzeriavalgrande@icloud.com
END:VEVENT
BEGIN:VEVENT
DTSTART;TZID=Europe/Paris:20210925T140000
DTEND;TZID=Europe/Paris:20210925T160000
DTSTAMP:20260419T203135
CREATED:20210921T072916Z
LAST-MODIFIED:20210921T080324Z
UID:1805-1632578400-1632585600@pizzeriavalgrande.com
SUMMARY:Ascoli - Brescia: Prenota subito il tuo posto!
DESCRIPTION:Chiama subito 0364560515!!!
URL:http://pizzeriavalgrande.com/event/crotone-brescia-prenota-subito-il-tuo-posto/
LOCATION:Pizzeria Valgrande\, Via Plan di Montecampione 58\, Artogne\, 25040\, Italia
ORGANIZER;CN="Pizzeria Valgrande":MAILTO:pizzeriavalgrande@icloud.com
END:VEVENT
BEGIN:VEVENT
DTSTART;TZID=Europe/Paris:20210917T203000
DTEND;TZID=Europe/Paris:20210917T223000
DTSTAMP:20260419T203135
CREATED:20210915T145756Z
LAST-MODIFIED:20210915T145756Z
UID:1787-1631910600-1631917800@pizzeriavalgrande.com
SUMMARY:Brescia - Crotone: Prenota subito il tuo posto!
DESCRIPTION:Chiama subito 0364560515!!!\n \n 
URL:http://pizzeriavalgrande.com/event/brescia-crotone-prenota-subito-il-tuo-posto/
LOCATION:Pizzeria Valgrande\, Via Plan di Montecampione 58\, Artogne\, 25040\, Italia
ORGANIZER;CN="Pizzeria Valgrande":MAILTO:pizzeriavalgrande@icloud.com
END:VEVENT
BEGIN:VEVENT
DTSTART;TZID=Europe/Paris:20210911T140000
DTEND;TZID=Europe/Paris:20210911T160000
DTSTAMP:20260419T203135
CREATED:20210901T164004Z
LAST-MODIFIED:20210901T164128Z
UID:1726-1631368800-1631376000@pizzeriavalgrande.com
SUMMARY:Alessandria - Brescia su DAZN e Sky: Prenota subito il tuo posto!
DESCRIPTION:Chiama subito 0364560515!!!
URL:http://pizzeriavalgrande.com/event/alessandria-brescia-su-dazn-e-sky-prenota-subito-il-tuo-posto/
LOCATION:Pizzeria Valgrande\, Via Plan di Montecampione 58\, Artogne\, 25040\, Italia
ORGANIZER;CN="Pizzeria Valgrande":MAILTO:pizzeriavalgrande@icloud.com
END:VEVENT
BEGIN:VEVENT
DTSTART;TZID=Europe/Paris:20201219T140000
DTEND;TZID=Europe/Paris:20201219T160000
DTSTAMP:20260419T203135
CREATED:20201213T091547Z
LAST-MODIFIED:20201213T091547Z
UID:1450-1608386400-1608393600@pizzeriavalgrande.com
SUMMARY:Brescia - Reggiana su DAZN: Prenota subito il tuo posto!
DESCRIPTION:Chiama subito 0364560515!!!
URL:http://pizzeriavalgrande.com/event/brescia-reggiana-su-dazn-prenota-subito-il-tuo-posto/
LOCATION:Pizzeria Valgrande\, Via Plan di Montecampione 58\, Artogne\, 25040\, Italia
ORGANIZER;CN="Pizzeria Valgrande":MAILTO:pizzeriavalgrande@icloud.com
END:VEVENT
END:VCALENDAR