BEGIN:VCALENDAR
VERSION:2.0
PRODID:-//Pizzeria Valgrande Montecampione - ECPv6.15.20//NONSGML v1.0//EN
CALSCALE:GREGORIAN
METHOD:PUBLISH
X-ORIGINAL-URL:http://pizzeriavalgrande.com
X-WR-CALDESC:Eventi per Pizzeria Valgrande Montecampione
REFRESH-INTERVAL;VALUE=DURATION:PT1H
X-Robots-Tag:noindex
X-PUBLISHED-TTL:PT1H
BEGIN:VTIMEZONE
TZID:Europe/Paris
BEGIN:DAYLIGHT
TZOFFSETFROM:+0100
TZOFFSETTO:+0200
TZNAME:CEST
DTSTART:20180325T010000
END:DAYLIGHT
BEGIN:STANDARD
TZOFFSETFROM:+0200
TZOFFSETTO:+0100
TZNAME:CET
DTSTART:20181028T010000
END:STANDARD
BEGIN:DAYLIGHT
TZOFFSETFROM:+0100
TZOFFSETTO:+0200
TZNAME:CEST
DTSTART:20190331T010000
END:DAYLIGHT
BEGIN:STANDARD
TZOFFSETFROM:+0200
TZOFFSETTO:+0100
TZNAME:CET
DTSTART:20191027T010000
END:STANDARD
BEGIN:DAYLIGHT
TZOFFSETFROM:+0100
TZOFFSETTO:+0200
TZNAME:CEST
DTSTART:20200329T010000
END:DAYLIGHT
BEGIN:STANDARD
TZOFFSETFROM:+0200
TZOFFSETTO:+0100
TZNAME:CET
DTSTART:20201025T010000
END:STANDARD
BEGIN:DAYLIGHT
TZOFFSETFROM:+0100
TZOFFSETTO:+0200
TZNAME:CEST
DTSTART:20210328T010000
END:DAYLIGHT
BEGIN:STANDARD
TZOFFSETFROM:+0200
TZOFFSETTO:+0100
TZNAME:CET
DTSTART:20211031T010000
END:STANDARD
BEGIN:DAYLIGHT
TZOFFSETFROM:+0100
TZOFFSETTO:+0200
TZNAME:CEST
DTSTART:20220327T010000
END:DAYLIGHT
BEGIN:STANDARD
TZOFFSETFROM:+0200
TZOFFSETTO:+0100
TZNAME:CET
DTSTART:20221030T010000
END:STANDARD
END:VTIMEZONE
BEGIN:VEVENT
DTSTART;TZID=Europe/Paris:20210829T180000
DTEND;TZID=Europe/Paris:20210829T200000
DTSTAMP:20260420T060738
CREATED:20210825T090542Z
LAST-MODIFIED:20210825T090542Z
UID:1688-1630260000-1630267200@pizzeriavalgrande.com
SUMMARY:Genoa - Napoli su DAZN: Prenota subito il tuo posto!
DESCRIPTION:Chiama subito 0364560515!!!
URL:http://pizzeriavalgrande.com/event/genoa-napoli-su-dazn-prenota-subito-il-tuo-posto/
LOCATION:Pizzeria Valgrande\, Via Plan di Montecampione 58\, Artogne\, 25040\, Italia
ORGANIZER;CN="Pizzeria Valgrande":MAILTO:pizzeriavalgrande@icloud.com
END:VEVENT
BEGIN:VEVENT
DTSTART;TZID=Europe/Paris:20200725T193000
DTEND;TZID=Europe/Paris:20200725T203000
DTSTAMP:20260420T060738
CREATED:20200719T085816Z
LAST-MODIFIED:20200719T085949Z
UID:1259-1595705400-1595709000@pizzeriavalgrande.com
SUMMARY:Genoa - Inter su Sky: Prenota subito il tuo tavolo!
DESCRIPTION:
URL:http://pizzeriavalgrande.com/event/genoa-inter-su-sky-prenota-subito-il-tuo-posto/
LOCATION:Pizzeria Valgrande\, Via Plan di Montecampione 58\, Artogne\, 25040\, Italia
ORGANIZER;CN="Pizzeria Valgrande":MAILTO:pizzeriavalgrande@icloud.com
END:VEVENT
BEGIN:VEVENT
DTSTART;TZID=Europe/Paris:20200716T193000
DTEND;TZID=Europe/Paris:20200716T213000
DTSTAMP:20260420T060738
CREATED:20200713T092403Z
LAST-MODIFIED:20200713T092414Z
UID:1244-1594927800-1594935000@pizzeriavalgrande.com
SUMMARY:Torino - Genoa su Sky: Prenota subito il tuo tavolo!
DESCRIPTION:
URL:http://pizzeriavalgrande.com/event/torino-genoa-su-sky-prenota-subito-il-tuo-tavolo/
LOCATION:Pizzeria Valgrande\, Via Plan di Montecampione 58\, Artogne\, 25040\, Italia
ORGANIZER;CN="Pizzeria Valgrande":MAILTO:pizzeriavalgrande@icloud.com
END:VEVENT
BEGIN:VEVENT
DTSTART;TZID=Europe/Paris:20200708T193000
DTEND;TZID=Europe/Paris:20200708T213000
DTSTAMP:20260420T060738
CREATED:20200705T073658Z
LAST-MODIFIED:20200705T073714Z
UID:1195-1594236600-1594243800@pizzeriavalgrande.com
SUMMARY:Genoa - Napoli su Sky: Prenota subito il tuo tavolo!
DESCRIPTION:
URL:http://pizzeriavalgrande.com/event/genoa-napoli-su-sky-prenota-subito-il-tuo-posto/
LOCATION:Pizzeria Valgrande\, Via Plan di Montecampione 58\, Artogne\, 25040\, Italia
ORGANIZER;CN="Pizzeria Valgrande":MAILTO:pizzeriavalgrande@icloud.com
END:VEVENT
BEGIN:VEVENT
DTSTART;TZID=Europe/Paris:20200627T173000
DTEND;TZID=Europe/Paris:20200627T183000
DTSTAMP:20260420T060738
CREATED:20200627T144701Z
LAST-MODIFIED:20200627T144701Z
UID:1113-1593279000-1593282600@pizzeriavalgrande.com
SUMMARY:Brescia - Genoa su Sky: Prenota subito il tuo tavolo!
DESCRIPTION:Chiama subito 0364560515!!!
URL:http://pizzeriavalgrande.com/event/brescia-genoa-su-sky-prenota-subito-il-tuo-tavolo/
LOCATION:Pizzeria Valgrande\, Via Plan di Montecampione 58\, Artogne\, 25040\, Italia
ORGANIZER;CN="Pizzeria Valgrande":MAILTO:pizzeriavalgrande@icloud.com
END:VEVENT
BEGIN:VEVENT
DTSTART;TZID=Europe/Paris:20200202T150000
DTEND;TZID=Europe/Paris:20200202T170000
DTSTAMP:20260420T060738
CREATED:20200129T181817Z
LAST-MODIFIED:20200129T181817Z
UID:1047-1580655600-1580662800@pizzeriavalgrande.com
SUMMARY:Atalanta - Genoa su DAZN: Prenota subito il tuo tavolo!
DESCRIPTION:Chiama subito 0364560515!!!
URL:http://pizzeriavalgrande.com/event/atalanta-genoa-su-dazn-prenota-subito-il-tuo-tavolo/
LOCATION:Pizzeria Valgrande\, Via Plan di Montecampione 58\, Artogne\, 25040\, Italia
ORGANIZER;CN="Pizzeria Valgrande":MAILTO:pizzeriavalgrande@icloud.com
END:VEVENT
BEGIN:VEVENT
DTSTART;TZID=Europe/Paris:20191221T180000
DTEND;TZID=Europe/Paris:20191221T200000
DTSTAMP:20260420T060738
CREATED:20191215T163328Z
LAST-MODIFIED:20191215T163358Z
UID:914-1576951200-1576958400@pizzeriavalgrande.com
SUMMARY:Inter - Genoa su Sky: Prenota subito il tuo tavolo!
DESCRIPTION:Chiama subito 0364560515!!!
URL:http://pizzeriavalgrande.com/event/inter-genoa-su-sky-prenota-subito-il-tuo-tavolo/
LOCATION:Pizzeria Valgrande\, Via Plan di Montecampione 58\, Artogne\, 25040\, Italia
ORGANIZER;CN="Pizzeria Valgrande":MAILTO:pizzeriavalgrande@icloud.com
END:VEVENT
BEGIN:VEVENT
DTSTART;TZID=Europe/Paris:20191214T204500
DTEND;TZID=Europe/Paris:20191214T224500
DTSTAMP:20260420T060738
CREATED:20191203T110204Z
LAST-MODIFIED:20191203T111049Z
UID:857-1576356300-1576363500@pizzeriavalgrande.com
SUMMARY:Genoa - Sampdoria su DAZN: Prenota subito il tuo tavolo!
DESCRIPTION:Chiama subito 0364560515!!!
URL:http://pizzeriavalgrande.com/event/genoa-sampdoria-su-dazn-prenota-subito-il-tuo-tavolo/
LOCATION:Pizzeria Valgrande\, Via Plan di Montecampione 58\, Artogne\, 25040\, Italia
ORGANIZER;CN="Pizzeria Valgrande":MAILTO:pizzeriavalgrande@icloud.com
END:VEVENT
BEGIN:VEVENT
DTSTART;TZID=Europe/Paris:20190526T203000
DTEND;TZID=Europe/Paris:20190526T223000
DTSTAMP:20260420T060738
CREATED:20190522T141706Z
LAST-MODIFIED:20190522T145622Z
UID:646-1558902600-1558909800@pizzeriavalgrande.com
SUMMARY:Diretta Gol su Sky: Prenota subito il tuo tavolo!
DESCRIPTION:  \n\nChiama subito 0364560515!!!\nAttenzione\, essendoci la contemporaneità delle partite in Pizzeria mostreremo Diretta Gol. Nel caso di maggioranze di richieste dei presenti potrà essere deciso di mostrare Inter – Empoli\, Spal – Milan o Atalanta – Sassuolo.
URL:http://pizzeriavalgrande.com/event/diretta-gol-su-sky-prenota-subito-il-tuo-tavolo/
LOCATION:Pizzeria Valgrande\, Via Plan di Montecampione 58\, Artogne\, 25040\, Italia
ORGANIZER;CN="Pizzeria Valgrande":MAILTO:pizzeriavalgrande@icloud.com
END:VEVENT
BEGIN:VEVENT
DTSTART;TZID=Europe/Paris:20190511T150000
DTEND;TZID=Europe/Paris:20190511T170000
DTSTAMP:20260420T060738
CREATED:20190509T072325Z
LAST-MODIFIED:20190509T072325Z
UID:575-1557586800-1557594000@pizzeriavalgrande.com
SUMMARY:Atalanta - Genoa su Sky: Prenota subito il tuo tavolo!
DESCRIPTION:Chiama subito 0364560515!!!
URL:http://pizzeriavalgrande.com/event/atalanta-genoa-su-sky-prenota-subito-il-tuo-tavolo/
LOCATION:Pizzeria Valgrande\, Via Plan di Montecampione 58\, Artogne\, 25040\, Italia
ORGANIZER;CN="Pizzeria Valgrande":MAILTO:pizzeriavalgrande@icloud.com
END:VEVENT
END:VCALENDAR