BEGIN:VCALENDAR
VERSION:2.0
PRODID:-//Pizzeria Valgrande Montecampione - ECPv6.15.20//NONSGML v1.0//EN
CALSCALE:GREGORIAN
METHOD:PUBLISH
X-ORIGINAL-URL:http://pizzeriavalgrande.com
X-WR-CALDESC:Eventi per Pizzeria Valgrande Montecampione
REFRESH-INTERVAL;VALUE=DURATION:PT1H
X-Robots-Tag:noindex
X-PUBLISHED-TTL:PT1H
BEGIN:VTIMEZONE
TZID:Europe/Paris
BEGIN:DAYLIGHT
TZOFFSETFROM:+0100
TZOFFSETTO:+0200
TZNAME:CEST
DTSTART:20180325T010000
END:DAYLIGHT
BEGIN:STANDARD
TZOFFSETFROM:+0200
TZOFFSETTO:+0100
TZNAME:CET
DTSTART:20181028T010000
END:STANDARD
BEGIN:DAYLIGHT
TZOFFSETFROM:+0100
TZOFFSETTO:+0200
TZNAME:CEST
DTSTART:20190331T010000
END:DAYLIGHT
BEGIN:STANDARD
TZOFFSETFROM:+0200
TZOFFSETTO:+0100
TZNAME:CET
DTSTART:20191027T010000
END:STANDARD
BEGIN:DAYLIGHT
TZOFFSETFROM:+0100
TZOFFSETTO:+0200
TZNAME:CEST
DTSTART:20200329T010000
END:DAYLIGHT
BEGIN:STANDARD
TZOFFSETFROM:+0200
TZOFFSETTO:+0100
TZNAME:CET
DTSTART:20201025T010000
END:STANDARD
BEGIN:DAYLIGHT
TZOFFSETFROM:+0100
TZOFFSETTO:+0200
TZNAME:CEST
DTSTART:20210328T010000
END:DAYLIGHT
BEGIN:STANDARD
TZOFFSETFROM:+0200
TZOFFSETTO:+0100
TZNAME:CET
DTSTART:20211031T010000
END:STANDARD
BEGIN:DAYLIGHT
TZOFFSETFROM:+0100
TZOFFSETTO:+0200
TZNAME:CEST
DTSTART:20220327T010000
END:DAYLIGHT
BEGIN:STANDARD
TZOFFSETFROM:+0200
TZOFFSETTO:+0100
TZNAME:CET
DTSTART:20221030T010000
END:STANDARD
END:VTIMEZONE
BEGIN:VEVENT
DTSTART;TZID=Europe/Paris:20210829T200000
DTEND;TZID=Europe/Paris:20210829T220000
DTSTAMP:20260420T092455
CREATED:20210825T094006Z
LAST-MODIFIED:20210825T094006Z
UID:1691-1630267200-1630274400@pizzeriavalgrande.com
SUMMARY:Milan – Cagliari su DAZN: Prenota subito il tuo posto!
DESCRIPTION:Chiama subito 0364560515!!!
URL:http://pizzeriavalgrande.com/event/milan-cagliari-su-dazn-prenota-subito-il-tuo-posto/
LOCATION:Pizzeria Valgrande\, Via Plan di Montecampione 58\, Artogne\, 25040\, Italia
ORGANIZER;CN="Pizzeria Valgrande":MAILTO:pizzeriavalgrande@icloud.com
END:VEVENT
BEGIN:VEVENT
DTSTART;TZID=Europe/Paris:20201213T123000
DTEND;TZID=Europe/Paris:20201213T143000
DTSTAMP:20260420T092455
CREATED:20201213T084828Z
LAST-MODIFIED:20201213T084828Z
UID:1437-1607862600-1607869800@pizzeriavalgrande.com
SUMMARY:Cagliari – Inter su DAZN: Prenota subito il tuo tavolo!
DESCRIPTION:  \nChiama subito 0364560515!!!
URL:http://pizzeriavalgrande.com/event/cagliari-inter-su-dazn-prenota-subito-il-tuo-tavolo/
LOCATION:Pizzeria Valgrande\, Via Plan di Montecampione 58\, Artogne\, 25040\, Italia
ORGANIZER;CN="Pizzeria Valgrande":MAILTO:pizzeriavalgrande@icloud.com
END:VEVENT
BEGIN:VEVENT
DTSTART;TZID=Europe/Paris:20200801T204500
DTEND;TZID=Europe/Paris:20200801T224500
DTSTAMP:20260420T092455
CREATED:20200801T120923Z
LAST-MODIFIED:20200801T120923Z
UID:1311-1596314700-1596321900@pizzeriavalgrande.com
SUMMARY:Milan - Cagliari su Sky: Prenota subito il tuo tavolo!
DESCRIPTION:
URL:http://pizzeriavalgrande.com/event/milan-cagliari-su-sky-prenota-subito-il-tuo-tavolo/
LOCATION:Pizzeria Valgrande\, Via Plan di Montecampione 58\, Artogne\, 25040\, Italia
ORGANIZER;CN="Pizzeria Valgrande":MAILTO:pizzeriavalgrande@icloud.com
END:VEVENT
BEGIN:VEVENT
DTSTART;TZID=Europe/Paris:20200729T214500
DTEND;TZID=Europe/Paris:20200729T234500
DTSTAMP:20260420T092455
CREATED:20200725T071812Z
LAST-MODIFIED:20200725T071812Z
UID:1277-1596059100-1596066300@pizzeriavalgrande.com
SUMMARY:Cagliari - Juventus su DAZN: prenota subito il tuo posto!
DESCRIPTION:
URL:http://pizzeriavalgrande.com/event/cagliari-juventus-su-dazn-prenota-subito-il-tuo-posto/
LOCATION:Pizzeria Valgrande\, Via Plan di Montecampione 58\, Artogne\, 25040\, Italia
ORGANIZER;CN="Pizzeria Valgrande":MAILTO:pizzeriavalgrande@icloud.com
END:VEVENT
BEGIN:VEVENT
DTSTART;TZID=Europe/Paris:20200723T214500
DTEND;TZID=Europe/Paris:20200723T234500
DTSTAMP:20260420T092455
CREATED:20200713T093554Z
LAST-MODIFIED:20200713T093554Z
UID:1252-1595540700-1595547900@pizzeriavalgrande.com
SUMMARY:Lazio - Cagliari su DAZN: Prenota subito il tuo posto!
DESCRIPTION:
URL:http://pizzeriavalgrande.com/event/lazio-cagliari-su-dazn-prenota-subito-il-tuo-posto/
LOCATION:Pizzeria Valgrande\, Via Plan di Montecampione 58\, Artogne\, 25040\, Italia
ORGANIZER;CN="Pizzeria Valgrande":MAILTO:pizzeriavalgrande@icloud.com
END:VEVENT
BEGIN:VEVENT
DTSTART;TZID=Europe/Paris:20200718T193000
DTEND;TZID=Europe/Paris:20200718T213000
DTSTAMP:20260420T092455
CREATED:20200713T091716Z
LAST-MODIFIED:20200713T091802Z
UID:1238-1595100600-1595107800@pizzeriavalgrande.com
SUMMARY:Cagliari - Sassuolo su Sky: Prenota subito il tuo tavolo!
DESCRIPTION:
URL:http://pizzeriavalgrande.com/event/cagliari-sassuolo-su-sky-prenota-subito-il-tuo-posto/
LOCATION:Pizzeria Valgrande\, Via Plan di Montecampione 58\, Artogne\, 25040\, Italia
ORGANIZER;CN="Pizzeria Valgrande":MAILTO:pizzeriavalgrande@icloud.com
END:VEVENT
BEGIN:VEVENT
DTSTART;TZID=Europe/Paris:20200705T193000
DTEND;TZID=Europe/Paris:20200705T213000
DTSTAMP:20260420T092455
CREATED:20200705T074333Z
LAST-MODIFIED:20200705T074540Z
UID:1200-1593977400-1593984600@pizzeriavalgrande.com
SUMMARY:Cagliari - Atalanta su Sky: Prenota subito il tuo tavolo!
DESCRIPTION:
URL:http://pizzeriavalgrande.com/event/cagliari-atalanta-su-sky-prenota-subito-il-tuo-tavolo/
LOCATION:Pizzeria Valgrande\, Via Plan di Montecampione 58\, Artogne\, 25040\, Italia
ORGANIZER;CN="Pizzeria Valgrande":MAILTO:pizzeriavalgrande@icloud.com
END:VEVENT
BEGIN:VEVENT
DTSTART;TZID=Europe/Paris:20200627T193000
DTEND;TZID=Europe/Paris:20200627T213000
DTSTAMP:20260420T092455
CREATED:20200627T145434Z
LAST-MODIFIED:20200627T145434Z
UID:1118-1593286200-1593293400@pizzeriavalgrande.com
SUMMARY:Cagliari - Torino su Sky: Prenota subito il tuo tavolo!
DESCRIPTION:Chiama subito 0364560515!!!
URL:http://pizzeriavalgrande.com/event/cagliari-torino-su-sky-prenota-subito-il-tuo-tavolo/
LOCATION:Pizzeria Valgrande\, Via Plan di Montecampione 58\, Artogne\, 25040\, Italia
ORGANIZER;CN="Pizzeria Valgrande":MAILTO:pizzeriavalgrande@icloud.com
END:VEVENT
BEGIN:VEVENT
DTSTART;TZID=Europe/Paris:20200111T150000
DTEND;TZID=Europe/Paris:20200111T170000
DTSTAMP:20260420T092456
CREATED:20200108T202429Z
LAST-MODIFIED:20200108T202429Z
UID:981-1578754800-1578762000@pizzeriavalgrande.com
SUMMARY:Cagliari - Milan su Sky: Prenota subito il tuo tavolo!
DESCRIPTION:Chiama subito 0364560515!!!
URL:http://pizzeriavalgrande.com/event/cagliari-milan-su-sky-prenota-subito-il-tuo-tavolo/
LOCATION:Pizzeria Valgrande\, Via Plan di Montecampione 58\, Artogne\, 25040\, Italia
ORGANIZER;CN="Pizzeria Valgrande":MAILTO:pizzeriavalgrande@icloud.com
END:VEVENT
BEGIN:VEVENT
DTSTART;TZID=Europe/Paris:20191216T204500
DTEND;TZID=Europe/Paris:20191216T230000
DTSTAMP:20260420T092456
CREATED:20191211T124253Z
LAST-MODIFIED:20191211T124253Z
UID:908-1576529100-1576537200@pizzeriavalgrande.com
SUMMARY:Cagliari - Lazio su Sky: Prenota subito il tuo tavolo!
DESCRIPTION:Chiama subito 0364560515!!!
URL:http://pizzeriavalgrande.com/event/cagliari-lazio-su-sky-prenota-subito-il-tuo-tavolo/
LOCATION:Pizzeria Valgrande\, Via Plan di Montecampione 58\, Artogne\, 25040\, Italia
ORGANIZER;CN="Pizzeria Valgrande":MAILTO:pizzeriavalgrande@icloud.com
END:VEVENT
BEGIN:VEVENT
DTSTART;TZID=Europe/Paris:20190526T203000
DTEND;TZID=Europe/Paris:20190526T223000
DTSTAMP:20260420T092456
CREATED:20190522T141706Z
LAST-MODIFIED:20190522T145622Z
UID:646-1558902600-1558909800@pizzeriavalgrande.com
SUMMARY:Diretta Gol su Sky: Prenota subito il tuo tavolo!
DESCRIPTION:  \n\nChiama subito 0364560515!!!\nAttenzione\, essendoci la contemporaneità delle partite in Pizzeria mostreremo Diretta Gol. Nel caso di maggioranze di richieste dei presenti potrà essere deciso di mostrare Inter – Empoli\, Spal – Milan o Atalanta – Sassuolo.
URL:http://pizzeriavalgrande.com/event/diretta-gol-su-sky-prenota-subito-il-tuo-tavolo/
LOCATION:Pizzeria Valgrande\, Via Plan di Montecampione 58\, Artogne\, 25040\, Italia
ORGANIZER;CN="Pizzeria Valgrande":MAILTO:pizzeriavalgrande@icloud.com
END:VEVENT
END:VCALENDAR