BEGIN:VCALENDAR
VERSION:2.0
PRODID:-//Pizzeria Valgrande Montecampione - ECPv6.15.20//NONSGML v1.0//EN
CALSCALE:GREGORIAN
METHOD:PUBLISH
X-ORIGINAL-URL:http://pizzeriavalgrande.com
X-WR-CALDESC:Eventi per Pizzeria Valgrande Montecampione
REFRESH-INTERVAL;VALUE=DURATION:PT1H
X-Robots-Tag:noindex
X-PUBLISHED-TTL:PT1H
BEGIN:VTIMEZONE
TZID:Europe/Paris
BEGIN:DAYLIGHT
TZOFFSETFROM:+0100
TZOFFSETTO:+0200
TZNAME:CEST
DTSTART:20180325T010000
END:DAYLIGHT
BEGIN:STANDARD
TZOFFSETFROM:+0200
TZOFFSETTO:+0100
TZNAME:CET
DTSTART:20181028T010000
END:STANDARD
BEGIN:DAYLIGHT
TZOFFSETFROM:+0100
TZOFFSETTO:+0200
TZNAME:CEST
DTSTART:20190331T010000
END:DAYLIGHT
BEGIN:STANDARD
TZOFFSETFROM:+0200
TZOFFSETTO:+0100
TZNAME:CET
DTSTART:20191027T010000
END:STANDARD
BEGIN:DAYLIGHT
TZOFFSETFROM:+0100
TZOFFSETTO:+0200
TZNAME:CEST
DTSTART:20200329T010000
END:DAYLIGHT
BEGIN:STANDARD
TZOFFSETFROM:+0200
TZOFFSETTO:+0100
TZNAME:CET
DTSTART:20201025T010000
END:STANDARD
BEGIN:DAYLIGHT
TZOFFSETFROM:+0100
TZOFFSETTO:+0200
TZNAME:CEST
DTSTART:20210328T010000
END:DAYLIGHT
BEGIN:STANDARD
TZOFFSETFROM:+0200
TZOFFSETTO:+0100
TZNAME:CET
DTSTART:20211031T010000
END:STANDARD
BEGIN:DAYLIGHT
TZOFFSETFROM:+0100
TZOFFSETTO:+0200
TZNAME:CEST
DTSTART:20220327T010000
END:DAYLIGHT
BEGIN:STANDARD
TZOFFSETFROM:+0200
TZOFFSETTO:+0100
TZNAME:CET
DTSTART:20221030T010000
END:STANDARD
END:VTIMEZONE
BEGIN:VEVENT
DTSTART;TZID=Europe/Paris:20211101T123000
DTEND;TZID=Europe/Paris:20211101T143000
DTSTAMP:20260419T203539
CREATED:20211026T191241Z
LAST-MODIFIED:20211026T191241Z
UID:1901-1635769800-1635777000@pizzeriavalgrande.com
SUMMARY:Benevento  - Brescia: Prenota subito il tuo posto!
DESCRIPTION:Chiama subito 0364560515!!!
URL:http://pizzeriavalgrande.com/event/benevento-brescia-prenota-subito-il-tuo-posto/
LOCATION:Pizzeria Valgrande\, Via Plan di Montecampione 58\, Artogne\, 25040\, Italia
ORGANIZER;CN="Pizzeria Valgrande":MAILTO:pizzeriavalgrande@icloud.com
END:VEVENT
BEGIN:VEVENT
DTSTART;TZID=Europe/Paris:20211016T161500
DTEND;TZID=Europe/Paris:20211016T180000
DTSTAMP:20260419T203539
CREATED:20211013T132005Z
LAST-MODIFIED:20211013T132005Z
UID:1851-1634400900-1634407200@pizzeriavalgrande.com
SUMMARY:Perugia - Brescia: Prenota subito il tuo posto!
DESCRIPTION:Chiama subito 0364560515!!!
URL:http://pizzeriavalgrande.com/event/perugia-brescia-prenota-subito-il-tuo-posto/
LOCATION:Pizzeria Valgrande\, Via Plan di Montecampione 58\, Artogne\, 25040\, Italia
ORGANIZER;CN="Pizzeria Valgrande":MAILTO:pizzeriavalgrande@icloud.com
END:VEVENT
BEGIN:VEVENT
DTSTART;TZID=Europe/Paris:20211003T140000
DTEND;TZID=Europe/Paris:20211003T183000
DTSTAMP:20260419T203539
CREATED:20210928T074023Z
LAST-MODIFIED:20210928T074023Z
UID:1832-1633269600-1633285800@pizzeriavalgrande.com
SUMMARY:Brescia - Como: Prenota subito il tuo posto!
DESCRIPTION:Chiama subito 0364560515!!!
URL:http://pizzeriavalgrande.com/event/brescia-como-prenota-subito-il-tuo-posto/
LOCATION:Pizzeria Valgrande\, Via Plan di Montecampione 58\, Artogne\, 25040\, Italia
ORGANIZER;CN="Pizzeria Valgrande":MAILTO:pizzeriavalgrande@icloud.com
END:VEVENT
BEGIN:VEVENT
DTSTART;TZID=Europe/Paris:20210925T140000
DTEND;TZID=Europe/Paris:20210925T160000
DTSTAMP:20260419T203539
CREATED:20210921T072916Z
LAST-MODIFIED:20210921T080324Z
UID:1805-1632578400-1632585600@pizzeriavalgrande.com
SUMMARY:Ascoli - Brescia: Prenota subito il tuo posto!
DESCRIPTION:Chiama subito 0364560515!!!
URL:http://pizzeriavalgrande.com/event/crotone-brescia-prenota-subito-il-tuo-posto/
LOCATION:Pizzeria Valgrande\, Via Plan di Montecampione 58\, Artogne\, 25040\, Italia
ORGANIZER;CN="Pizzeria Valgrande":MAILTO:pizzeriavalgrande@icloud.com
END:VEVENT
BEGIN:VEVENT
DTSTART;TZID=Europe/Paris:20210917T203000
DTEND;TZID=Europe/Paris:20210917T223000
DTSTAMP:20260419T203539
CREATED:20210915T145756Z
LAST-MODIFIED:20210915T145756Z
UID:1787-1631910600-1631917800@pizzeriavalgrande.com
SUMMARY:Brescia - Crotone: Prenota subito il tuo posto!
DESCRIPTION:Chiama subito 0364560515!!!\n \n 
URL:http://pizzeriavalgrande.com/event/brescia-crotone-prenota-subito-il-tuo-posto/
LOCATION:Pizzeria Valgrande\, Via Plan di Montecampione 58\, Artogne\, 25040\, Italia
ORGANIZER;CN="Pizzeria Valgrande":MAILTO:pizzeriavalgrande@icloud.com
END:VEVENT
BEGIN:VEVENT
DTSTART;TZID=Europe/Paris:20210911T140000
DTEND;TZID=Europe/Paris:20210911T160000
DTSTAMP:20260419T203539
CREATED:20210901T164004Z
LAST-MODIFIED:20210901T164128Z
UID:1726-1631368800-1631376000@pizzeriavalgrande.com
SUMMARY:Alessandria - Brescia su DAZN e Sky: Prenota subito il tuo posto!
DESCRIPTION:Chiama subito 0364560515!!!
URL:http://pizzeriavalgrande.com/event/alessandria-brescia-su-dazn-e-sky-prenota-subito-il-tuo-posto/
LOCATION:Pizzeria Valgrande\, Via Plan di Montecampione 58\, Artogne\, 25040\, Italia
ORGANIZER;CN="Pizzeria Valgrande":MAILTO:pizzeriavalgrande@icloud.com
END:VEVENT
BEGIN:VEVENT
DTSTART;TZID=Europe/Paris:20210812T153000
DTEND;TZID=Europe/Paris:20210812T170000
DTSTAMP:20260419T203539
CREATED:20210806T140547Z
LAST-MODIFIED:20210806T140547Z
UID:1641-1628782200-1628787600@pizzeriavalgrande.com
SUMMARY:Presentazione del libro “Andar per funghi a Montecampione” presso la Pizzeria Valgrande
DESCRIPTION:
URL:http://pizzeriavalgrande.com/event/presentazione-del-libro-andar-per-funghi-a-montecampione-presso-la-pizzeria-valgrande/
LOCATION:Pizzeria Valgrande\, Via Plan di Montecampione 58\, Artogne\, 25040\, Italia
ORGANIZER;CN="Pizzeria Valgrande":MAILTO:pizzeriavalgrande@icloud.com
END:VEVENT
BEGIN:VEVENT
DTSTART;TZID=Europe/Paris:20201219T140000
DTEND;TZID=Europe/Paris:20201219T160000
DTSTAMP:20260419T203539
CREATED:20201213T091547Z
LAST-MODIFIED:20201213T091547Z
UID:1450-1608386400-1608393600@pizzeriavalgrande.com
SUMMARY:Brescia - Reggiana su DAZN: Prenota subito il tuo posto!
DESCRIPTION:Chiama subito 0364560515!!!
URL:http://pizzeriavalgrande.com/event/brescia-reggiana-su-dazn-prenota-subito-il-tuo-posto/
LOCATION:Pizzeria Valgrande\, Via Plan di Montecampione 58\, Artogne\, 25040\, Italia
ORGANIZER;CN="Pizzeria Valgrande":MAILTO:pizzeriavalgrande@icloud.com
END:VEVENT
BEGIN:VEVENT
DTSTART;TZID=Europe/Paris:20200801T180000
DTEND;TZID=Europe/Paris:20200801T200000
DTSTAMP:20260419T203539
CREATED:20200801T122949Z
LAST-MODIFIED:20200801T122949Z
UID:1324-1596304800-1596312000@pizzeriavalgrande.com
SUMMARY:Brescia - Sampdoria su DAZN: Prenota subito il tuo tavolo!
DESCRIPTION:
URL:http://pizzeriavalgrande.com/event/brescia-sampdoria-su-dazn-prenota-subito-il-tuo-tavolo/
LOCATION:Pizzeria Valgrande\, Via Plan di Montecampione 58\, Artogne\, 25040\, Italia
ORGANIZER;CN="Pizzeria Valgrande":MAILTO:pizzeriavalgrande@icloud.com
END:VEVENT
BEGIN:VEVENT
DTSTART;TZID=Europe/Paris:20200725T171500
DTEND;TZID=Europe/Paris:20200725T191500
DTSTAMP:20260419T203539
CREATED:20200719T085551Z
LAST-MODIFIED:20200719T085920Z
UID:1257-1595697300-1595704500@pizzeriavalgrande.com
SUMMARY:Brescia - Parma su Sky: Prenota subito il tuo posto!
DESCRIPTION:
URL:http://pizzeriavalgrande.com/event/brescia-parma-su-sky-prenota-subito-il-tuo-posto/
LOCATION:Pizzeria Valgrande\, Via Plan di Montecampione 58\, Artogne\, 25040\, Italia
ORGANIZER;CN="Pizzeria Valgrande":MAILTO:pizzeriavalgrande@icloud.com
END:VEVENT
BEGIN:VEVENT
DTSTART;TZID=Europe/Paris:20200714T214500
DTEND;TZID=Europe/Paris:20200714T234500
DTSTAMP:20260419T203539
CREATED:20200713T093055Z
LAST-MODIFIED:20200713T093055Z
UID:1250-1594763100-1594770300@pizzeriavalgrande.com
SUMMARY:Atalanta - Brescia su Sky: Prenota subito il tuo posto!
DESCRIPTION:
URL:http://pizzeriavalgrande.com/event/atalanta-brescia-su-sky-prenota-subito-il-tuo-posto/
LOCATION:Pizzeria Valgrande\, Via Plan di Montecampione 58\, Artogne\, 25040\, Italia
ORGANIZER;CN="Pizzeria Valgrande":MAILTO:pizzeriavalgrande@icloud.com
END:VEVENT
BEGIN:VEVENT
DTSTART;TZID=Europe/Paris:20200711T193000
DTEND;TZID=Europe/Paris:20200711T213000
DTSTAMP:20260419T203539
CREATED:20200705T071914Z
LAST-MODIFIED:20200705T071914Z
UID:1187-1594495800-1594503000@pizzeriavalgrande.com
SUMMARY:Brescia - Roma su Sky: Prenota subito il tuo tavolo!
DESCRIPTION:
URL:http://pizzeriavalgrande.com/event/brescia-roma-su-sky-prenota-subito-il-tuo-tavolo/
LOCATION:Pizzeria Valgrande\, Via Plan di Montecampione 58\, Artogne\, 25040\, Italia
ORGANIZER;CN="Pizzeria Valgrande":MAILTO:pizzeriavalgrande@icloud.com
END:VEVENT
BEGIN:VEVENT
DTSTART;TZID=Europe/Paris:20200701T193000
DTEND;TZID=Europe/Paris:20200701T213000
DTSTAMP:20260419T203539
CREATED:20200628T074640Z
LAST-MODIFIED:20200628T084046Z
UID:1167-1593631800-1593639000@pizzeriavalgrande.com
SUMMARY:Inter - Brescia su DAZN: Prenota subito il tuo tavolo!
DESCRIPTION:
URL:http://pizzeriavalgrande.com/event/inter-brescia-su-dazn-prenota-subito-il-tuo-tavolo/
LOCATION:Pizzeria Valgrande\, Via Plan di Montecampione 58\, Artogne\, 25040\, Italia
ORGANIZER;CN="Pizzeria Valgrande":MAILTO:pizzeriavalgrande@icloud.com
END:VEVENT
BEGIN:VEVENT
DTSTART;TZID=Europe/Paris:20200627T173000
DTEND;TZID=Europe/Paris:20200627T183000
DTSTAMP:20260419T203539
CREATED:20200627T144701Z
LAST-MODIFIED:20200627T144701Z
UID:1113-1593279000-1593282600@pizzeriavalgrande.com
SUMMARY:Brescia - Genoa su Sky: Prenota subito il tuo tavolo!
DESCRIPTION:Chiama subito 0364560515!!!
URL:http://pizzeriavalgrande.com/event/brescia-genoa-su-sky-prenota-subito-il-tuo-tavolo/
LOCATION:Pizzeria Valgrande\, Via Plan di Montecampione 58\, Artogne\, 25040\, Italia
ORGANIZER;CN="Pizzeria Valgrande":MAILTO:pizzeriavalgrande@icloud.com
END:VEVENT
BEGIN:VEVENT
DTSTART;TZID=Europe/Paris:20200209T150000
DTEND;TZID=Europe/Paris:20200209T170000
DTSTAMP:20260419T203539
CREATED:20200129T181029Z
LAST-MODIFIED:20200129T181029Z
UID:1039-1581260400-1581267600@pizzeriavalgrande.com
SUMMARY:Brescia - Udinese su DAZN: Prenota subito il tuo tavolo!
DESCRIPTION:Chiama subito 0364560515!!!
URL:http://pizzeriavalgrande.com/event/brescia-udinese-su-dazn-prenota-subito-il-tuo-tavolo/
LOCATION:Pizzeria Valgrande\, Via Plan di Montecampione 58\, Artogne\, 25040\, Italia
ORGANIZER;CN="Pizzeria Valgrande":MAILTO:pizzeriavalgrande@icloud.com
END:VEVENT
BEGIN:VEVENT
DTSTART;TZID=Europe/Paris:20200201T150000
DTEND;TZID=Europe/Paris:20200201T170000
DTSTAMP:20260419T203539
CREATED:20200129T175610Z
LAST-MODIFIED:20200129T175755Z
UID:1030-1580569200-1580576400@pizzeriavalgrande.com
SUMMARY:Bologna - Brescia su Sky: Prenota subito il tuo tavolo!
DESCRIPTION:Chiama subito 0364560515!!!
URL:http://pizzeriavalgrande.com/event/bologna-brescia-su-sky-prenota-subito-il-tuo-tavolo/
LOCATION:Pizzeria Valgrande\, Via Plan di Montecampione 58\, Artogne\, 25040\, Italia
ORGANIZER;CN="Pizzeria Valgrande":MAILTO:pizzeriavalgrande@icloud.com
END:VEVENT
BEGIN:VEVENT
DTSTART;TZID=Europe/Paris:20200112T150000
DTEND;TZID=Europe/Paris:20200112T170000
DTSTAMP:20260419T203539
CREATED:20200108T205456Z
LAST-MODIFIED:20200108T205456Z
UID:1003-1578841200-1578848400@pizzeriavalgrande.com
SUMMARY:Sampdoria - Brescia su DAZN: Prenota subito il tuo tavolo!
DESCRIPTION:Chiama subito 0364560515!!!
URL:http://pizzeriavalgrande.com/event/sampdoria-brescia-su-dazn-prenota-subito-il-tuo-tavolo/
LOCATION:Pizzeria Valgrande\, Via Plan di Montecampione 58\, Artogne\, 25040\, Italia
ORGANIZER;CN="Pizzeria Valgrande":MAILTO:pizzeriavalgrande@icloud.com
END:VEVENT
BEGIN:VEVENT
DTSTART;TZID=Europe/Paris:20191222T150000
DTEND;TZID=Europe/Paris:20191222T170000
DTSTAMP:20260419T203539
CREATED:20191215T163547Z
LAST-MODIFIED:20191215T163547Z
UID:916-1577026800-1577034000@pizzeriavalgrande.com
SUMMARY:Parma - Brescia su Sky: Prenota subito il tuo tavolo!
DESCRIPTION:Chiama subito 0364560515!!!
URL:http://pizzeriavalgrande.com/event/parma-brescia-su-sky-prenota-subito-il-tuo-tavolo/
LOCATION:Pizzeria Valgrande\, Via Plan di Montecampione 58\, Artogne\, 25040\, Italia
ORGANIZER;CN="Pizzeria Valgrande":MAILTO:pizzeriavalgrande@icloud.com
END:VEVENT
BEGIN:VEVENT
DTSTART;TZID=Europe/Paris:20191218T204500
DTEND;TZID=Europe/Paris:20191218T230000
DTSTAMP:20260419T203539
CREATED:20191209T114544Z
LAST-MODIFIED:20191209T114544Z
UID:873-1576701900-1576710000@pizzeriavalgrande.com
SUMMARY:Brescia – Sassuolo su Sky: Prenota subito il tuo tavolo!
DESCRIPTION:Chiama subito 0364560515!!!
URL:http://pizzeriavalgrande.com/event/brescia-sassuolo-su-sky-prenota-subito-il-tuo-tavolo/
LOCATION:Pizzeria Valgrande\, Via Plan di Montecampione 58\, Artogne\, 25040\, Italia
ORGANIZER;CN="Pizzeria Valgrande":MAILTO:pizzeriavalgrande@icloud.com
END:VEVENT
BEGIN:VEVENT
DTSTART;TZID=Europe/Paris:20191214T150000
DTEND;TZID=Europe/Paris:20191214T170000
DTSTAMP:20260419T203539
CREATED:20191203T105946Z
LAST-MODIFIED:20191203T105946Z
UID:855-1576335600-1576342800@pizzeriavalgrande.com
SUMMARY:Brescia - Lecce su Sky: Prenota subito il tuo tavolo!
DESCRIPTION:Chiama subito 0364560515!!!
URL:http://pizzeriavalgrande.com/event/brescia-lecce-su-sky-prenota-subito-il-tuo-tavolo/
END:VEVENT
BEGIN:VEVENT
DTSTART;TZID=Europe/Paris:20191208T150000
DTEND;TZID=Europe/Paris:20191208T170000
DTSTAMP:20260419T203539
CREATED:20191203T104737Z
LAST-MODIFIED:20191203T104957Z
UID:845-1575817200-1575824400@pizzeriavalgrande.com
SUMMARY:Spal - Brescia su DAZN: Prenota subito il tuo tavolo!
DESCRIPTION:Chiama subito 0364560515!!!
URL:http://pizzeriavalgrande.com/event/spal-brescia-su-sky-prenota-subito-il-tuo-tavolo/
LOCATION:Pizzeria Valgrande\, Via Plan di Montecampione 58\, Artogne\, 25040\, Italia
ORGANIZER;CN="Pizzeria Valgrande":MAILTO:pizzeriavalgrande@icloud.com
END:VEVENT
END:VCALENDAR