BEGIN:VCALENDAR
VERSION:2.0
PRODID:-//Pizzeria Valgrande Montecampione - ECPv6.15.20//NONSGML v1.0//EN
CALSCALE:GREGORIAN
METHOD:PUBLISH
X-WR-CALNAME:Pizzeria Valgrande Montecampione
X-ORIGINAL-URL:http://pizzeriavalgrande.com
X-WR-CALDESC:Eventi per Pizzeria Valgrande Montecampione
REFRESH-INTERVAL;VALUE=DURATION:PT1H
X-Robots-Tag:noindex
X-PUBLISHED-TTL:PT1H
BEGIN:VTIMEZONE
TZID:Europe/Paris
BEGIN:DAYLIGHT
TZOFFSETFROM:+0100
TZOFFSETTO:+0200
TZNAME:CEST
DTSTART:20180325T010000
END:DAYLIGHT
BEGIN:STANDARD
TZOFFSETFROM:+0200
TZOFFSETTO:+0100
TZNAME:CET
DTSTART:20181028T010000
END:STANDARD
BEGIN:DAYLIGHT
TZOFFSETFROM:+0100
TZOFFSETTO:+0200
TZNAME:CEST
DTSTART:20190331T010000
END:DAYLIGHT
BEGIN:STANDARD
TZOFFSETFROM:+0200
TZOFFSETTO:+0100
TZNAME:CET
DTSTART:20191027T010000
END:STANDARD
BEGIN:DAYLIGHT
TZOFFSETFROM:+0100
TZOFFSETTO:+0200
TZNAME:CEST
DTSTART:20200329T010000
END:DAYLIGHT
BEGIN:STANDARD
TZOFFSETFROM:+0200
TZOFFSETTO:+0100
TZNAME:CET
DTSTART:20201025T010000
END:STANDARD
BEGIN:DAYLIGHT
TZOFFSETFROM:+0100
TZOFFSETTO:+0200
TZNAME:CEST
DTSTART:20210328T010000
END:DAYLIGHT
BEGIN:STANDARD
TZOFFSETFROM:+0200
TZOFFSETTO:+0100
TZNAME:CET
DTSTART:20211031T010000
END:STANDARD
END:VTIMEZONE
BEGIN:VEVENT
DTSTART;TZID=Europe/Paris:20201010T190000
DTEND;TZID=Europe/Paris:20201010T220000
DTSTAMP:20260419T224353
CREATED:20201003T213933Z
LAST-MODIFIED:20201003T214248Z
UID:1420-1602356400-1602367200@pizzeriavalgrande.com
SUMMARY:Spiedo alla Bresciana con Castagnata per la cena di sabato 10 ottobre
DESCRIPTION:
URL:http://pizzeriavalgrande.com/event/spiedo-alla-bresciana-con-castagnata-per-la-cena-di-sabato-10-ottobre/
LOCATION:Pizzeria Valgrande\, Via Plan di Montecampione 58\, Artogne\, 25040\, Italia
ATTACH;FMTTYPE=image/jpeg:http://pizzeriavalgrande.com/wp-content/uploads/2020/10/SpiedoCastagnata.jpg
ORGANIZER;CN="Pizzeria Valgrande":MAILTO:pizzeriavalgrande@icloud.com
END:VEVENT
BEGIN:VEVENT
DTSTART;TZID=Europe/Paris:20190928T193000
DTEND;TZID=Europe/Paris:20190928T223000
DTSTAMP:20260419T224353
CREATED:20190910T164039Z
LAST-MODIFIED:20190910T164039Z
UID:810-1569699000-1569709800@pizzeriavalgrande.com
SUMMARY:Spiedo alla Bresciana con Castagnata per la cena di sabato 28 settembre
DESCRIPTION:
URL:http://pizzeriavalgrande.com/event/spiedo-alla-bresciana-con-castagnata-per-la-cena-di-sabato-28-settembre/
LOCATION:Pizzeria Valgrande\, Via Plan di Montecampione 58\, Artogne\, 25040\, Italia
ORGANIZER;CN="Pizzeria Valgrande":MAILTO:pizzeriavalgrande@icloud.com
END:VEVENT
BEGIN:VEVENT
DTSTART;TZID=Europe/Paris:20190728T130000
DTEND;TZID=Europe/Paris:20190728T150000
DTSTAMP:20260419T224353
CREATED:20190723T200511Z
LAST-MODIFIED:20190723T200624Z
UID:777-1564318800-1564326000@pizzeriavalgrande.com
SUMMARY:Spiedo alla Bresciana per il pranzo di domenica 28 luglio
DESCRIPTION:
URL:http://pizzeriavalgrande.com/event/spiedo-alla-bresciana-per-il-pranzo-di-domenica-28-luglio/
LOCATION:Pizzeria Valgrande\, Via Plan di Montecampione 58\, Artogne\, 25040\, Italia
ORGANIZER;CN="Pizzeria Valgrande":MAILTO:pizzeriavalgrande@icloud.com
END:VEVENT
BEGIN:VEVENT
DTSTART;TZID=Europe/Paris:20190623T120000
DTEND;TZID=Europe/Paris:20190623T150000
DTSTAMP:20260419T224353
CREATED:20190608T211714Z
LAST-MODIFIED:20190608T212913Z
UID:669-1561291200-1561302000@pizzeriavalgrande.com
SUMMARY:Spiedo alla Bresciana per il pranzo di domenica 23 giugno
DESCRIPTION:
URL:http://pizzeriavalgrande.com/event/spiedo-alla-bresciana-per-il-pranzo-di-domenica-23-giugno/
LOCATION:Pizzeria Valgrande\, Via Plan di Montecampione 58\, Artogne\, 25040\, Italia
ORGANIZER;CN="Pizzeria Valgrande":MAILTO:pizzeriavalgrande@icloud.com
END:VEVENT
BEGIN:VEVENT
DTSTART;TZID=Europe/Paris:20190606T083000
DTEND;TZID=Europe/Paris:20190606T173000
DTSTAMP:20260419T224353
CREATED:20190525T163947Z
LAST-MODIFIED:20190530T171256Z
UID:654-1559809800-1559842200@pizzeriavalgrande.com
SUMMARY:A spasso per Boschi con Bettino – Gita n°4: Camminata verso San Glisente con pic-nic al Bivacco Bassi
DESCRIPTION:
URL:http://pizzeriavalgrande.com/event/a-spasso-per-boschi-con-bettino-gita-n4-camminata-verso-san-glisente-con-pic-nic-al-bivacco-bassi/
LOCATION:Pizzeria Valgrande\, Via Plan di Montecampione 58\, Artogne\, 25040\, Italia
ORGANIZER;CN="Pizzeria Valgrande":MAILTO:pizzeriavalgrande@icloud.com
END:VEVENT
BEGIN:VEVENT
DTSTART;TZID=Europe/Paris:20190521T083000
DTEND;TZID=Europe/Paris:20190521T140000
DTSTAMP:20260419T224353
CREATED:20190518T071942Z
LAST-MODIFIED:20190518T140416Z
UID:619-1558427400-1558447200@pizzeriavalgrande.com
SUMMARY:A spasso per Boschi con Bettino – Gita n°3: Camminata per tutti verso il Secondino passando dall'ancora del Longarino
DESCRIPTION: 
URL:http://pizzeriavalgrande.com/event/a-spasso-per-boschi-con-bettino-gita-n3-camminata-per-tutti-verso-il-secondio-passando-dallancora-del-longarino/
LOCATION:Pizzeria Valgrande\, Via Plan di Montecampione 58\, Artogne\, 25040\, Italia
ORGANIZER;CN="Pizzeria Valgrande":MAILTO:pizzeriavalgrande@icloud.com
END:VEVENT
BEGIN:VEVENT
DTSTART;TZID=Europe/Paris:20190516T083000
DTEND;TZID=Europe/Paris:20190516T163000
DTSTAMP:20260419T224353
CREATED:20190509T135958Z
LAST-MODIFIED:20190509T135958Z
UID:586-1557995400-1558024200@pizzeriavalgrande.com
SUMMARY:A spasso per Boschi con Bettino – Gita n°2: Camminata sul Muffetto con pic-nic al Lago Rondeneto!
DESCRIPTION:  \nUn giorno alla settimana fino a metà giugno una bella gita in compagnia!
URL:http://pizzeriavalgrande.com/event/a-spasso-per-boschi-con-bettino-gita-n2-camminata-sul-muffetto-con-pic-nic-al-lago-rondeneto/
LOCATION:Pizzeria Valgrande\, Via Plan di Montecampione 58\, Artogne\, 25040\, Italia
CATEGORIES:A spasso per Boschi con Bettino
ORGANIZER;CN="Pizzeria Valgrande":MAILTO:pizzeriavalgrande@icloud.com
END:VEVENT
BEGIN:VEVENT
DTSTART;TZID=Europe/Paris:20190507T080000
DTEND;TZID=Europe/Paris:20190507T163000
DTSTAMP:20260419T224353
CREATED:20190401T151311Z
LAST-MODIFIED:20190509T074221Z
UID:243-1557216000-1557246600@pizzeriavalgrande.com
SUMMARY:A spasso per Boschi con Bettino - Gita n°1: Camminata per tutti in Val Palot con grigliata (o pic nic)!
DESCRIPTION:Un giorno alla settimana fino a metà giugno una bella gita in compagnia!
URL:http://pizzeriavalgrande.com/event/a-spasso-per-boschi-con-bettino-gita-n1-camminata-per-tutti-in-val-palot-con-grigliata-o-pic-nic/
CATEGORIES:A spasso per Boschi con Bettino
END:VEVENT
END:VCALENDAR