BEGIN:VCALENDAR
VERSION:2.0
PRODID:-//Pizzeria Valgrande Montecampione - ECPv6.15.20//NONSGML v1.0//EN
CALSCALE:GREGORIAN
METHOD:PUBLISH
X-WR-CALNAME:Pizzeria Valgrande Montecampione
X-ORIGINAL-URL:http://pizzeriavalgrande.com
X-WR-CALDESC:Eventi per Pizzeria Valgrande Montecampione
REFRESH-INTERVAL;VALUE=DURATION:PT1H
X-Robots-Tag:noindex
X-PUBLISHED-TTL:PT1H
BEGIN:VTIMEZONE
TZID:Europe/Paris
BEGIN:DAYLIGHT
TZOFFSETFROM:+0100
TZOFFSETTO:+0200
TZNAME:CEST
DTSTART:20180325T010000
END:DAYLIGHT
BEGIN:STANDARD
TZOFFSETFROM:+0200
TZOFFSETTO:+0100
TZNAME:CET
DTSTART:20181028T010000
END:STANDARD
BEGIN:DAYLIGHT
TZOFFSETFROM:+0100
TZOFFSETTO:+0200
TZNAME:CEST
DTSTART:20190331T010000
END:DAYLIGHT
BEGIN:STANDARD
TZOFFSETFROM:+0200
TZOFFSETTO:+0100
TZNAME:CET
DTSTART:20191027T010000
END:STANDARD
BEGIN:DAYLIGHT
TZOFFSETFROM:+0100
TZOFFSETTO:+0200
TZNAME:CEST
DTSTART:20200329T010000
END:DAYLIGHT
BEGIN:STANDARD
TZOFFSETFROM:+0200
TZOFFSETTO:+0100
TZNAME:CET
DTSTART:20201025T010000
END:STANDARD
BEGIN:DAYLIGHT
TZOFFSETFROM:+0100
TZOFFSETTO:+0200
TZNAME:CEST
DTSTART:20210328T010000
END:DAYLIGHT
BEGIN:STANDARD
TZOFFSETFROM:+0200
TZOFFSETTO:+0100
TZNAME:CET
DTSTART:20211031T010000
END:STANDARD
END:VTIMEZONE
BEGIN:VEVENT
DTSTART;TZID=Europe/Paris:20200823T140000
DTEND;TZID=Europe/Paris:20200823T150000
DTSTAMP:20260421T110717
CREATED:20200817T065920Z
LAST-MODIFIED:20200817T065920Z
UID:1388-1598191200-1598194800@pizzeriavalgrande.com
SUMMARY:MotoGp Stiria su Sky: Prenota subito il tuo posto!
DESCRIPTION:
URL:http://pizzeriavalgrande.com/event/motogp-stiria-su-sky-prenota-subito-il-tuo-posto/
LOCATION:Pizzeria Valgrande\, Via Plan di Montecampione 58\, Artogne\, 25040\, Italia
ORGANIZER;CN="Pizzeria Valgrande":MAILTO:pizzeriavalgrande@icloud.com
END:VEVENT
BEGIN:VEVENT
DTSTART;TZID=Europe/Paris:20200816T140000
DTEND;TZID=Europe/Paris:20200816T150000
DTSTAMP:20260421T110717
CREATED:20200812T065138Z
LAST-MODIFIED:20200812T065138Z
UID:1380-1597586400-1597590000@pizzeriavalgrande.com
SUMMARY:MotoGp Austria su Sky: Prenota subito il tuo posto!
DESCRIPTION:
URL:http://pizzeriavalgrande.com/event/motogp-austria-su-sky-prenota-subito-il-tuo-posto/
LOCATION:Pizzeria Valgrande\, Via Plan di Montecampione 58\, Artogne\, 25040\, Italia
ORGANIZER;CN="Pizzeria Valgrande":MAILTO:pizzeriavalgrande@icloud.com
END:VEVENT
BEGIN:VEVENT
DTSTART;TZID=Europe/Paris:20200712T150000
DTEND;TZID=Europe/Paris:20200712T170000
DTSTAMP:20260421T110717
CREATED:20200706T084207Z
LAST-MODIFIED:20200706T084207Z
UID:1212-1594566000-1594573200@pizzeriavalgrande.com
SUMMARY:Formula1 Austria su Sky: Prenota subito il tuo posto!
DESCRIPTION:
URL:http://pizzeriavalgrande.com/event/formula1-austria-su-sky-prenota-subito-il-tuo-posto/
LOCATION:Pizzeria Valgrande\, Via Plan di Montecampione 58\, Artogne\, 25040\, Italia
ORGANIZER;CN="Pizzeria Valgrande":MAILTO:pizzeriavalgrande@icloud.com
END:VEVENT
BEGIN:VEVENT
DTSTART;TZID=Europe/Paris:20200705T150000
DTEND;TZID=Europe/Paris:20200705T170000
DTSTAMP:20260421T110717
CREATED:20200628T080000Z
LAST-MODIFIED:20200705T075213Z
UID:1171-1593961200-1593968400@pizzeriavalgrande.com
SUMMARY:Formula1 Austria su Sky: Prenota subito il tuo posto!
DESCRIPTION:
URL:http://pizzeriavalgrande.com/event/roma-udinese-su-sky-prenota-subito-il-tuo-tavolo/
LOCATION:Pizzeria Valgrande\, Via Plan di Montecampione 58\, Artogne\, 25040\, Italia
ORGANIZER;CN="Pizzeria Valgrande":MAILTO:pizzeriavalgrande@icloud.com
END:VEVENT
BEGIN:VEVENT
DTSTART;TZID=Europe/Paris:20190630T150000
DTEND;TZID=Europe/Paris:20190630T170000
DTSTAMP:20260421T110717
CREATED:20190624T111420Z
LAST-MODIFIED:20190624T111420Z
UID:697-1561906800-1561914000@pizzeriavalgrande.com
SUMMARY:Formula1 Austria su Sky: Prenota subito il tuo tavolo!
DESCRIPTION:Chiama subito 0364560515!!!
URL:http://pizzeriavalgrande.com/event/formula1-austria-su-sky-prenota-subito-il-tuo-tavolo/
LOCATION:Pizzeria Valgrande\, Via Plan di Montecampione 58\, Artogne\, 25040\, Italia
ORGANIZER;CN="Pizzeria Valgrande":MAILTO:pizzeriavalgrande@icloud.com
END:VEVENT
END:VCALENDAR