BEGIN:VCALENDAR
VERSION:2.0
PRODID:-//Pizzeria Valgrande Montecampione - ECPv6.15.20//NONSGML v1.0//EN
CALSCALE:GREGORIAN
METHOD:PUBLISH
X-ORIGINAL-URL:http://pizzeriavalgrande.com
X-WR-CALDESC:Eventi per Pizzeria Valgrande Montecampione
REFRESH-INTERVAL;VALUE=DURATION:PT1H
X-Robots-Tag:noindex
X-PUBLISHED-TTL:PT1H
BEGIN:VTIMEZONE
TZID:Europe/Paris
BEGIN:DAYLIGHT
TZOFFSETFROM:+0100
TZOFFSETTO:+0200
TZNAME:CEST
DTSTART:20190331T010000
END:DAYLIGHT
BEGIN:STANDARD
TZOFFSETFROM:+0200
TZOFFSETTO:+0100
TZNAME:CET
DTSTART:20191027T010000
END:STANDARD
BEGIN:DAYLIGHT
TZOFFSETFROM:+0100
TZOFFSETTO:+0200
TZNAME:CEST
DTSTART:20200329T010000
END:DAYLIGHT
BEGIN:STANDARD
TZOFFSETFROM:+0200
TZOFFSETTO:+0100
TZNAME:CET
DTSTART:20201025T010000
END:STANDARD
BEGIN:DAYLIGHT
TZOFFSETFROM:+0100
TZOFFSETTO:+0200
TZNAME:CEST
DTSTART:20210328T010000
END:DAYLIGHT
BEGIN:STANDARD
TZOFFSETFROM:+0200
TZOFFSETTO:+0100
TZNAME:CET
DTSTART:20211031T010000
END:STANDARD
END:VTIMEZONE
BEGIN:VEVENT
DTSTART;TZID=Europe/Paris:20201010T090000
DTEND;TZID=Europe/Paris:20201010T160000
DTSTAMP:20260420T001108
CREATED:20200928T160618Z
LAST-MODIFIED:20200928T160618Z
UID:1414-1602320400-1602345600@pizzeriavalgrande.com
SUMMARY:Consorzio Montecampione organizza una Giornata di approfondimento Micologico sui Chiodini
DESCRIPTION:
URL:http://pizzeriavalgrande.com/event/consorzio-montecampione-organizza-una-giornata-di-approfondimento-micologico-sui-chiodini/
LOCATION:Pizzeria Valgrande\, Via Plan di Montecampione 58\, Artogne\, 25040\, Italia
ATTACH;FMTTYPE=image/jpeg:http://pizzeriavalgrande.com/wp-content/uploads/2020/09/DarioDogaliGiornataChiodini2020.jpg
ORGANIZER;CN="Pizzeria Valgrande":MAILTO:pizzeriavalgrande@icloud.com
END:VEVENT
END:VCALENDAR